FILENAME: O4810430.NES.1163523.tif
QUADRANGLE_NAME: RESERVE SE
QUADRANT: NE
WEST_LONGITUDE: -104 18 45.00000
EAST_LONGITUDE: -104 15 0.00000
NORTH_LATITUDE: 48 37 30.00000
SOUTH_LATITUDE: 48 33 45.00000
PRODUCTION_DATE: 2001 10 7
RASTER_ORDER: LEFT_RIGHT/TOP_BOTTOM
BAND_ORGANIZATION: SINGLE FILE
BAND_CONTENT: BLACK&WHITE
BAND_CONTENT: UNDEFINED
BAND_CONTENT: UNDEFINED
BITS_PER_PIXEL: 8
SAMPLES_AND_LINES: 5322 7605
HORIZONTAL_DATUM: NAD83
HORIZONTAL_COORDINATE_SYSTEM: UTM
COORDINATE_ZONE: 13
HORIZONTAL_UNITS: meters
HORIZONTAL_RESOLUTION: 1.00000
SECONDARY_HORIZONTAL_DATUM: NAD27
XY_ORIGIN: 550319.00000 5386350.00000
SECONDARY_XY_ORIGIN: 550357.63900 5386128.44800
NATION: US
STATE: MT
NW_QUAD_CORNER_XY: 550661.75600 5385998.26100
NE_QUAD_CORNER_XY: 555267.33900 5386041.61800
SE_QUAD_CORNERY_XY: 555335.55100 5379094.35600
SW_QUAD_CORNER_XY: 550724.28400 5379050.98700
SECONDARY_NW_QUAD_XY: 550663.37100 5385779.28200
SECONDARY_NE_QUAD_XY: 555269.10100 5385822.64000
SECONDARY_SE_QUAD_XY: 555337.31300 5378875.38400
SECONDARY_SW_QUAD_XY: 550725.89800 5378832.01400
RMSE_XY: 4.15000
IMAGE_SOURCE: BLACK AND WHITE FILM
SOURCE_IMAGE_ID: NAPP 9124-090
SOURCE_IMAGE_DATE: 1997 8 22
SOURCE_DEM_DATE: 1998 0 0
AGENCY: WESTERN MAPPING CENTER (WMC)
PRODUCER: WOOLPERT LLP
PRODUCTION_SYSTEM: INTERGRAPH ISPM, ISIR
COMPRESSION: UNDEFINED
STANDARD_VERSION: 1996 12
METADATA_DATE: 2001 10 7
DATA_FILE_SIZE: 40479132
BYTE_COUNT: 5322
