FILENAME: O4810433.NWS.1163071.tif
QUADRANGLE_NAME: BIEM SCHOOL
QUADRANT: NW
WEST_LONGITUDE: -105 0 0.00000
EAST_LONGITUDE: -104 56 15.00000
NORTH_LATITUDE: 48 30 0.00000
SOUTH_LATITUDE: 48 26 15.00000
PRODUCTION_DATE: 2001 9 27
RASTER_ORDER: LEFT_RIGHT/TOP_BOTTOM
BAND_ORGANIZATION: SINGLE FILE
BAND_CONTENT: BLACK&WHITE
BAND_CONTENT: UNDEFINED
BAND_CONTENT: UNDEFINED
BITS_PER_PIXEL: 8
SAMPLES_AND_LINES: 5273 7563
HORIZONTAL_DATUM: NAD83
HORIZONTAL_COORDINATE_SYSTEM: UTM
COORDINATE_ZONE: 13
HORIZONTAL_UNITS: meters
HORIZONTAL_RESOLUTION: 1.00000
SECONDARY_HORIZONTAL_DATUM: NAD27
XY_ORIGIN: 499655.00000 5372186.00000
SECONDARY_XY_ORIGIN: 499694.10100 5371964.47200
NATION: US
STATE: MT
NW_QUAD_CORNER_XY: 500000.00000 5371875.57700
NE_QUAD_CORNER_XY: 504616.99100 5371877.46300
SE_QUAD_CORNERY_XY: 504622.66400 5364930.27900
SW_QUAD_CORNER_XY: 500000.00000 5364928.39200
SECONDARY_NW_QUAD_XY: 500000.00000 5371656.60400
SECONDARY_NE_QUAD_XY: 504617.13700 5371658.49000
SECONDARY_SE_QUAD_XY: 504622.81000 5364711.31500
SECONDARY_SW_QUAD_XY: 500000.00000 5364709.42800
RMSE_XY: 4.81000
IMAGE_SOURCE: BLACK AND WHITE FILM
SOURCE_IMAGE_ID: NAPP 9096-125
SOURCE_IMAGE_DATE: 1996 7 9
SOURCE_DEM_DATE: 1998 0 0
AGENCY: WESTERN MAPPING CENTER (WMC)
PRODUCER: WOOLPERT LLP
PRODUCTION_SYSTEM: INTERGRAPH ISPM, ISIR
COMPRESSION: UNDEFINED
STANDARD_VERSION: 1996 12
METADATA_DATE: 2001 9 27
DATA_FILE_SIZE: 39884972
BYTE_COUNT: 5273
