FILENAME: O4810433.NES.1163070.tif
QUADRANGLE_NAME: BIEM SCHOOL
QUADRANT: NE
WEST_LONGITUDE: -104 56 15.00000
EAST_LONGITUDE: -104 52 30.00000
NORTH_LATITUDE: 48 30 0.00000
SOUTH_LATITUDE: 48 26 15.00000
PRODUCTION_DATE: 2001 9 27
RASTER_ORDER: LEFT_RIGHT/TOP_BOTTOM
BAND_ORGANIZATION: SINGLE FILE
BAND_CONTENT: BLACK&WHITE
BAND_CONTENT: UNDEFINED
BAND_CONTENT: UNDEFINED
BITS_PER_PIXEL: 8
SAMPLES_AND_LINES: 5278 7566
HORIZONTAL_DATUM: NAD83
HORIZONTAL_COORDINATE_SYSTEM: UTM
COORDINATE_ZONE: 13
HORIZONTAL_UNITS: meters
HORIZONTAL_RESOLUTION: 1.00000
SECONDARY_HORIZONTAL_DATUM: NAD27
XY_ORIGIN: 504273.00000 5372191.00000
SECONDARY_XY_ORIGIN: 504312.07100 5371969.47700
NATION: US
STATE: MT
NW_QUAD_CORNER_XY: 504616.99100 5371877.46300
NE_QUAD_CORNER_XY: 509233.98000 5371883.12100
SE_QUAD_CORNERY_XY: 509245.32600 5364935.93800
SW_QUAD_CORNER_XY: 504622.66400 5364930.27900
SECONDARY_NW_QUAD_XY: 504617.13700 5371658.49000
SECONDARY_NE_QUAD_XY: 509234.27400 5371664.14800
SECONDARY_SE_QUAD_XY: 509245.62000 5364716.97400
SECONDARY_SW_QUAD_XY: 504622.81000 5364711.31500
RMSE_XY: 4.04000
IMAGE_SOURCE: BLACK AND WHITE FILM
SOURCE_IMAGE_ID: NAPP 9081-196
SOURCE_IMAGE_DATE: 1996 6 12
SOURCE_DEM_DATE: 1998 0 0
AGENCY: WESTERN MAPPING CENTER (WMC)
PRODUCER: WOOLPERT LLP
PRODUCTION_SYSTEM: INTERGRAPH ISPM, ISIR
COMPRESSION: UNDEFINED
STANDARD_VERSION: 1996 12
METADATA_DATE: 2001 9 27
DATA_FILE_SIZE: 39938626
BYTE_COUNT: 5278
