FILENAME: O4810434.SES.1163084.tif
QUADRANGLE_NAME: SMOKE CREEK NE
QUADRANT: SE
WEST_LONGITUDE: -104 48 45.00000
EAST_LONGITUDE: -104 45 0.00000
NORTH_LATITUDE: 48 26 15.00000
SOUTH_LATITUDE: 48 22 30.00000
PRODUCTION_DATE: 2001 9 22
RASTER_ORDER: LEFT_RIGHT/TOP_BOTTOM
BAND_ORGANIZATION: SINGLE FILE
BAND_CONTENT: BLACK&WHITE
BAND_CONTENT: UNDEFINED
BAND_CONTENT: UNDEFINED
BITS_PER_PIXEL: 8
SAMPLES_AND_LINES: 5295 7574
HORIZONTAL_DATUM: NAD83
HORIZONTAL_COORDINATE_SYSTEM: UTM
COORDINATE_ZONE: 13
HORIZONTAL_UNITS: meters
HORIZONTAL_RESOLUTION: 1.00000
SECONDARY_HORIZONTAL_DATUM: NAD27
XY_ORIGIN: 513524.00000 5365267.00000
SECONDARY_XY_ORIGIN: 513563.06900 5365045.57900
NATION: US
STATE: MT
NW_QUAD_CORNER_XY: 513867.98800 5364945.37100
NE_QUAD_CORNER_XY: 518490.64800 5364958.57600
SE_QUAD_CORNERY_XY: 518513.31800 5358011.47500
SW_QUAD_CORNER_XY: 513884.99000 5357998.26600
SECONDARY_NW_QUAD_XY: 513868.42800 5364726.40700
SECONDARY_NE_QUAD_XY: 518491.23500 5364739.61300
SECONDARY_SE_QUAD_XY: 518513.90500 5357792.52100
SECONDARY_SW_QUAD_XY: 513885.43100 5357779.31200
RMSE_XY: 3.58000
IMAGE_SOURCE: BLACK AND WHITE FILM
SOURCE_IMAGE_ID: NAPP 9081-066
SOURCE_IMAGE_DATE: 1996 6 12
SOURCE_DEM_DATE: 1998 0 0
AGENCY: WESTERN MAPPING CENTER (WMC)
PRODUCER: WOOLPERT LLP
PRODUCTION_SYSTEM: INTERGRAPH ISPM, ISIR
COMPRESSION: UNDEFINED
STANDARD_VERSION: 1996 12
METADATA_DATE: 2001 9 23
DATA_FILE_SIZE: 40109625
BYTE_COUNT: 5295
