FILENAME: O4810435.SWS.1163097.tif
QUADRANGLE_NAME: HOMESTEAD NW
QUADRANT: SW
WEST_LONGITUDE: -104 45 0.00000
EAST_LONGITUDE: -104 41 15.00000
NORTH_LATITUDE: 48 26 15.00000
SOUTH_LATITUDE: 48 22 30.00000
PRODUCTION_DATE: 2001 9 22
RASTER_ORDER: LEFT_RIGHT/TOP_BOTTOM
BAND_ORGANIZATION: SINGLE FILE
BAND_CONTENT: BLACK&WHITE
BAND_CONTENT: UNDEFINED
BAND_CONTENT: UNDEFINED
BITS_PER_PIXEL: 8
SAMPLES_AND_LINES: 5300 7577
HORIZONTAL_DATUM: NAD83
HORIZONTAL_COORDINATE_SYSTEM: UTM
COORDINATE_ZONE: 13
HORIZONTAL_UNITS: meters
HORIZONTAL_RESOLUTION: 1.00000
SECONDARY_HORIZONTAL_DATUM: NAD27
XY_ORIGIN: 518147.00000 5365283.00000
SECONDARY_XY_ORIGIN: 518186.04000 5365061.58600
NATION: US
STATE: MT
NW_QUAD_CORNER_XY: 518490.64800 5364958.57600
NE_QUAD_CORNER_XY: 523113.30500 5364975.55500
SE_QUAD_CORNERY_XY: 523141.64200 5358028.45800
SW_QUAD_CORNER_XY: 518513.31800 5358011.47500
SECONDARY_NW_QUAD_XY: 518491.23500 5364739.61300
SECONDARY_NE_QUAD_XY: 523114.03900 5364756.59200
SECONDARY_SE_QUAD_XY: 523142.37600 5357809.50500
SECONDARY_SW_QUAD_XY: 518513.90500 5357792.52100
RMSE_XY: 2.66000
IMAGE_SOURCE: BLACK AND WHITE FILM
SOURCE_IMAGE_ID: NAPP 9080-151
SOURCE_IMAGE_DATE: 1996 6 12
SOURCE_DEM_DATE: 1998 0 0
AGENCY: WESTERN MAPPING CENTER (WMC)
PRODUCER: WOOLPERT LLP
PRODUCTION_SYSTEM: INTERGRAPH ISPM, ISIR
COMPRESSION: UNDEFINED
STANDARD_VERSION: 1996 12
METADATA_DATE: 2001 9 22
DATA_FILE_SIZE: 40163400
BYTE_COUNT: 5300
