FILENAME: O4810435.NES.1163094.tif
QUADRANGLE_NAME: HOMESTEAD NW
QUADRANT: NE
WEST_LONGITUDE: -104 41 15.00000
EAST_LONGITUDE: -104 37 30.00000
NORTH_LATITUDE: 48 30 0.00000
SOUTH_LATITUDE: 48 26 15.00000
PRODUCTION_DATE: 2001 9 22
RASTER_ORDER: LEFT_RIGHT/TOP_BOTTOM
BAND_ORGANIZATION: SINGLE FILE
BAND_CONTENT: BLACK&WHITE
BAND_CONTENT: UNDEFINED
BAND_CONTENT: UNDEFINED
BITS_PER_PIXEL: 8
SAMPLES_AND_LINES: 5300 7581
HORIZONTAL_DATUM: NAD83
HORIZONTAL_COORDINATE_SYSTEM: UTM
COORDINATE_ZONE: 13
HORIZONTAL_UNITS: meters
HORIZONTAL_RESOLUTION: 1.00000
SECONDARY_HORIZONTAL_DATUM: NAD27
XY_ORIGIN: 522741.00000 5372251.00000
SECONDARY_XY_ORIGIN: 522779.96300 5372029.49300
NATION: US
STATE: MT
NW_QUAD_CORNER_XY: 523084.93900 5371922.72700
NE_QUAD_CORNER_XY: 527701.92000 5371943.47300
SE_QUAD_CORNERY_XY: 527735.95800 5364996.30600
SW_QUAD_CORNER_XY: 523113.30500 5364975.55500
SECONDARY_NW_QUAD_XY: 523085.67300 5371703.75600
SECONDARY_NE_QUAD_XY: 527702.80100 5371724.50300
SECONDARY_SE_QUAD_XY: 527736.83900 5364777.34500
SECONDARY_SW_QUAD_XY: 523114.03900 5364756.59200
RMSE_XY: 3.99000
IMAGE_SOURCE: BLACK AND WHITE FILM
SOURCE_IMAGE_ID: NAPP 9080-112
SOURCE_IMAGE_DATE: 1996 6 12
SOURCE_DEM_DATE: 1998 0 0
AGENCY: WESTERN MAPPING CENTER (WMC)
PRODUCER: WOOLPERT LLP
PRODUCTION_SYSTEM: INTERGRAPH ISPM, ISIR
COMPRESSION: UNDEFINED
STANDARD_VERSION: 1996 12
METADATA_DATE: 2001 9 22
DATA_FILE_SIZE: 40184600
BYTE_COUNT: 5300
