FILENAME: O4810436.NWS.1163107.tif
QUADRANGLE_NAME: HOMESTEAD
QUADRANT: NW
WEST_LONGITUDE: -104 37 30.00000
EAST_LONGITUDE: -104 33 45.00000
NORTH_LATITUDE: 48 30 0.00000
SOUTH_LATITUDE: 48 26 15.00000
PRODUCTION_DATE: 2001 9 22
RASTER_ORDER: LEFT_RIGHT/TOP_BOTTOM
BAND_ORGANIZATION: SINGLE FILE
BAND_CONTENT: BLACK&WHITE
BAND_CONTENT: UNDEFINED
BAND_CONTENT: UNDEFINED
BITS_PER_PIXEL: 8
SAMPLES_AND_LINES: 5306 7585
HORIZONTAL_DATUM: NAD83
HORIZONTAL_COORDINATE_SYSTEM: UTM
COORDINATE_ZONE: 13
HORIZONTAL_UNITS: meters
HORIZONTAL_RESOLUTION: 1.00000
SECONDARY_HORIZONTAL_DATUM: NAD27
XY_ORIGIN: 527358.00000 5372276.00000
SECONDARY_XY_ORIGIN: 527396.93700 5372054.49900
NATION: US
STATE: MT
NW_QUAD_CORNER_XY: 527701.92000 5371943.47300
NE_QUAD_CORNER_XY: 532318.89700 5371967.99200
SE_QUAD_CORNERY_XY: 532358.60800 5365020.83100
SW_QUAD_CORNER_XY: 527735.95800 5364996.30600
SECONDARY_NW_QUAD_XY: 527702.80100 5371724.50300
SECONDARY_NE_QUAD_XY: 532319.92400 5371749.02200
SECONDARY_SE_QUAD_XY: 532359.63600 5364801.87000
SECONDARY_SW_QUAD_XY: 527736.83900 5364777.34500
RMSE_XY: 2.87000
IMAGE_SOURCE: BLACK AND WHITE FILM
SOURCE_IMAGE_ID: NAPP 9082-023
SOURCE_IMAGE_DATE: 1996 6 12
SOURCE_DEM_DATE: 1998 0 0
AGENCY: WESTERN MAPPING CENTER (WMC)
PRODUCER: WOOLPERT LLP
PRODUCTION_SYSTEM: INTERGRAPH ISPM, ISIR
COMPRESSION: UNDEFINED
STANDARD_VERSION: 1996 12
METADATA_DATE: 2001 9 22
DATA_FILE_SIZE: 40251316
BYTE_COUNT: 5306
