FILENAME: O4810439.NES.1163539.tif
QUADRANGLE_NAME: SUNNYHILL SCHOOL
QUADRANT: NE
WEST_LONGITUDE: -104 11 15.00000
EAST_LONGITUDE: -104 7 30.00000
NORTH_LATITUDE: 48 30 0.00000
SOUTH_LATITUDE: 48 26 15.00000
PRODUCTION_DATE: 2001 10 7
RASTER_ORDER: LEFT_RIGHT/TOP_BOTTOM
BAND_ORGANIZATION: SINGLE FILE
BAND_CONTENT: BLACK&WHITE
BAND_CONTENT: UNDEFINED
BAND_CONTENT: UNDEFINED
BITS_PER_PIXEL: 8
SAMPLES_AND_LINES: 5344 7611
HORIZONTAL_DATUM: NAD83
HORIZONTAL_COORDINATE_SYSTEM: UTM
COORDINATE_ZONE: 13
HORIZONTAL_UNITS: meters
HORIZONTAL_RESOLUTION: 1.00000
SECONDARY_HORIZONTAL_DATUM: NAD27
XY_ORIGIN: 559678.00000 5372553.00000
SECONDARY_XY_ORIGIN: 559716.65600 5372331.63900
NATION: US
STATE: MT
NW_QUAD_CORNER_XY: 560020.63600 5372194.32000
NE_QUAD_CORNER_XY: 564637.56600 5372245.24500
SE_QUAD_CORNERY_XY: 564716.99300 5365298.15700
SW_QUAD_CORNER_XY: 560094.38900 5365247.21900
SECONDARY_NW_QUAD_XY: 560022.54400 5371975.35800
SECONDARY_NE_QUAD_XY: 564639.62100 5372026.28400
SECONDARY_SE_QUAD_XY: 564719.04800 5365079.20500
SECONDARY_SW_QUAD_XY: 560096.29700 5365028.26500
RMSE_XY: 2.40000
IMAGE_SOURCE: BLACK AND WHITE FILM
SOURCE_IMAGE_ID: NAPP 10766-143
SOURCE_IMAGE_DATE: 1998 7 10
SOURCE_DEM_DATE: 1998 0 0
AGENCY: WESTERN MAPPING CENTER (WMC)
PRODUCER: WOOLPERT LLP
PRODUCTION_SYSTEM: INTERGRAPH ISPM, ISIR
COMPRESSION: UNDEFINED
STANDARD_VERSION: 1996 12
METADATA_DATE: 2001 10 7
DATA_FILE_SIZE: 40678528
BYTE_COUNT: 5344
