FILENAME: O4810440.SWS.1163550.tif
QUADRANGLE_NAME: BRUSH MOUNTAIN
QUADRANT: SW
WEST_LONGITUDE: -104 7 30.00000
EAST_LONGITUDE: -104 3 45.00000
NORTH_LATITUDE: 48 26 15.00000
SOUTH_LATITUDE: 48 22 30.00000
PRODUCTION_DATE: 2001 10 7
RASTER_ORDER: LEFT_RIGHT/TOP_BOTTOM
BAND_ORGANIZATION: SINGLE FILE
BAND_CONTENT: BLACK&WHITE
BAND_CONTENT: UNDEFINED
BAND_CONTENT: UNDEFINED
BITS_PER_PIXEL: 8
SAMPLES_AND_LINES: 5355 7615
HORIZONTAL_DATUM: NAD83
HORIZONTAL_COORDINATE_SYSTEM: UTM
COORDINATE_ZONE: 13
HORIZONTAL_UNITS: meters
HORIZONTAL_RESOLUTION: 1.00000
SECONDARY_HORIZONTAL_DATUM: NAD27
XY_ORIGIN: 564375.00000 5365661.00000
SECONDARY_XY_ORIGIN: 564413.64700 5365439.73100
NATION: US
STATE: MT
NW_QUAD_CORNER_XY: 564716.99300 5365298.15700
NE_QUAD_CORNER_XY: 569339.58800 5365352.87000
SE_QUAD_CORNERY_XY: 569424.60600 5358405.87000
SW_QUAD_CORNER_XY: 564796.34200 5358351.14400
SECONDARY_NW_QUAD_XY: 564719.04800 5365079.20500
SECONDARY_NE_QUAD_XY: 569341.79000 5365133.91900
SECONDARY_SE_QUAD_XY: 569426.80800 5358186.92900
SECONDARY_SW_QUAD_XY: 564798.39700 5358132.20100
RMSE_XY: 3.73000
IMAGE_SOURCE: BLACK AND WHITE FILM
SOURCE_IMAGE_ID: NAPP 8631-022
SOURCE_IMAGE_DATE: 1995 7 28
SOURCE_DEM_DATE: 1996 1 1
AGENCY: WESTERN MAPPING CENTER (WMC)
PRODUCER: WOOLPERT LLP
PRODUCTION_SYSTEM: INTERGRAPH ISPM, ISIR
COMPRESSION: UNDEFINED
STANDARD_VERSION: 1996 12
METADATA_DATE: 2001 10 7
DATA_FILE_SIZE: 40783680
BYTE_COUNT: 5355
