FILENAME: O4810441.SES.1163076.tif
QUADRANGLE_NAME: SMOKE CREEK SW
QUADRANT: SE
WEST_LONGITUDE: -104 56 15.00000
EAST_LONGITUDE: -104 52 30.00000
NORTH_LATITUDE: 48 18 45.00000
SOUTH_LATITUDE: 48 15 0.00000
PRODUCTION_DATE: 2001 9 22
RASTER_ORDER: LEFT_RIGHT/TOP_BOTTOM
BAND_ORGANIZATION: SINGLE FILE
BAND_CONTENT: BLACK&WHITE
BAND_CONTENT: UNDEFINED
BAND_CONTENT: UNDEFINED
BITS_PER_PIXEL: 8
SAMPLES_AND_LINES: 5296 7566
HORIZONTAL_DATUM: NAD83
HORIZONTAL_COORDINATE_SYSTEM: UTM
COORDINATE_ZONE: 13
HORIZONTAL_UNITS: meters
HORIZONTAL_RESOLUTION: 1.00000
SECONDARY_HORIZONTAL_DATUM: NAD27
XY_ORIGIN: 504289.00000 5351350.00000
SECONDARY_XY_ORIGIN: 504328.24100 5351128.74500
NATION: US
STATE: MT
NW_QUAD_CORNER_XY: 504633.99300 5351036.13800
NE_QUAD_CORNER_XY: 509267.98500 5351041.80000
SE_QUAD_CORNERY_XY: 509279.29800 5344094.84500
SW_QUAD_CORNER_XY: 504639.64900 5344089.18100
SECONDARY_NW_QUAD_XY: 504634.14000 5350817.19400
SECONDARY_NE_QUAD_XY: 509268.27900 5350822.85600
SECONDARY_SE_QUAD_XY: 509279.59100 5343875.91200
SECONDARY_SW_QUAD_XY: 504639.79600 5343870.24800
RMSE_XY: 4.32000
IMAGE_SOURCE: BLACK AND WHITE FILM
SOURCE_IMAGE_ID: NAPP 9081-190
SOURCE_IMAGE_DATE: 1996 6 12
SOURCE_DEM_DATE: 1998 0 0
AGENCY: WESTERN MAPPING CENTER (WMC)
PRODUCER: WOOLPERT LLP
PRODUCTION_SYSTEM: INTERGRAPH ISPM, ISIR
COMPRESSION: UNDEFINED
STANDARD_VERSION: 1996 12
METADATA_DATE: 2001 9 23
DATA_FILE_SIZE: 40074832
BYTE_COUNT: 5296
