FILENAME: O4810441.NES.1163074.tif
QUADRANGLE_NAME: SMOKE CREEK SW
QUADRANT: NE
WEST_LONGITUDE: -104 56 15.00000
EAST_LONGITUDE: -104 52 30.00000
NORTH_LATITUDE: 48 22 30.00000
SOUTH_LATITUDE: 48 18 45.00000
PRODUCTION_DATE: 2001 9 22
RASTER_ORDER: LEFT_RIGHT/TOP_BOTTOM
BAND_ORGANIZATION: SINGLE FILE
BAND_CONTENT: BLACK&WHITE
BAND_CONTENT: UNDEFINED
BAND_CONTENT: UNDEFINED
BITS_PER_PIXEL: 8
SAMPLES_AND_LINES: 5289 7566
HORIZONTAL_DATUM: NAD83
HORIZONTAL_COORDINATE_SYSTEM: UTM
COORDINATE_ZONE: 13
HORIZONTAL_UNITS: meters
HORIZONTAL_RESOLUTION: 1.00000
SECONDARY_HORIZONTAL_DATUM: NAD27
XY_ORIGIN: 504284.00000 5358297.00000
SECONDARY_XY_ORIGIN: 504323.18400 5358075.65500
NATION: US
STATE: MT
NW_QUAD_CORNER_XY: 504628.33100 5357983.17000
NE_QUAD_CORNER_XY: 509256.66100 5357988.83100
SE_QUAD_CORNERY_XY: 509267.98500 5351041.80000
SW_QUAD_CORNER_XY: 504633.99300 5351036.13800
SECONDARY_NW_QUAD_XY: 504628.47800 5357764.21600
SECONDARY_NE_QUAD_XY: 509256.95500 5357769.87700
SECONDARY_SE_QUAD_XY: 509268.27900 5350822.85600
SECONDARY_SW_QUAD_XY: 504634.14000 5350817.19400
RMSE_XY: 5.49000
IMAGE_SOURCE: BLACK AND WHITE FILM
SOURCE_IMAGE_ID: NAPP 9081-192
SOURCE_IMAGE_DATE: 1996 6 12
SOURCE_DEM_DATE: 1998 0 0
AGENCY: WESTERN MAPPING CENTER (WMC)
PRODUCER: WOOLPERT LLP
PRODUCTION_SYSTEM: INTERGRAPH ISPM, ISIR
COMPRESSION: UNDEFINED
STANDARD_VERSION: 1996 12
METADATA_DATE: 2001 9 23
DATA_FILE_SIZE: 40021863
BYTE_COUNT: 5289
