FILENAME: O4810442.NES.1163086.tif
QUADRANGLE_NAME: COYOTE COULEE
QUADRANT: NE
WEST_LONGITUDE: -104 48 45.00000
EAST_LONGITUDE: -104 45 0.00000
NORTH_LATITUDE: 48 22 30.00000
SOUTH_LATITUDE: 48 18 45.00000
PRODUCTION_DATE: 2001 9 22
RASTER_ORDER: LEFT_RIGHT/TOP_BOTTOM
BAND_ORGANIZATION: SINGLE FILE
BAND_CONTENT: BLACK&WHITE
BAND_CONTENT: UNDEFINED
BAND_CONTENT: UNDEFINED
BITS_PER_PIXEL: 8
SAMPLES_AND_LINES: 5300 7573
HORIZONTAL_DATUM: NAD83
HORIZONTAL_COORDINATE_SYSTEM: UTM
COORDINATE_ZONE: 13
HORIZONTAL_UNITS: meters
HORIZONTAL_RESOLUTION: 1.00000
SECONDARY_HORIZONTAL_DATUM: NAD27
XY_ORIGIN: 513541.00000 5358319.00000
SECONDARY_XY_ORIGIN: 513580.12300 5358097.67600
NATION: US
STATE: MT
NW_QUAD_CORNER_XY: 513884.99000 5357998.26600
NE_QUAD_CORNER_XY: 518513.31800 5358011.47500
SE_QUAD_CORNERY_XY: 518535.96500 5351064.45000
SW_QUAD_CORNER_XY: 513901.97600 5351051.23800
SECONDARY_NW_QUAD_XY: 513885.43100 5357779.31200
SECONDARY_NE_QUAD_XY: 518513.90500 5357792.52100
SECONDARY_SE_QUAD_XY: 518536.55200 5350845.50600
SECONDARY_SW_QUAD_XY: 513902.41600 5350832.29400
RMSE_XY: 5.07000
IMAGE_SOURCE: BLACK AND WHITE FILM
SOURCE_IMAGE_ID: NAPP 9081-064
SOURCE_IMAGE_DATE: 1996 6 12
SOURCE_DEM_DATE: 1998 0 0
AGENCY: WESTERN MAPPING CENTER (WMC)
PRODUCER: WOOLPERT LLP
PRODUCTION_SYSTEM: INTERGRAPH ISPM, ISIR
COMPRESSION: UNDEFINED
STANDARD_VERSION: 1996 12
METADATA_DATE: 2001 9 22
DATA_FILE_SIZE: 40142200
BYTE_COUNT: 5300
