FILENAME: O4810443.SES.1163100.tif
QUADRANGLE_NAME: ROCKY POINT
QUADRANT: SE
WEST_LONGITUDE: -104 41 15.00000
EAST_LONGITUDE: -104 37 30.00000
NORTH_LATITUDE: 48 18 45.00000
SOUTH_LATITUDE: 48 15 0.00000
PRODUCTION_DATE: 2001 9 22
RASTER_ORDER: LEFT_RIGHT/TOP_BOTTOM
BAND_ORGANIZATION: SINGLE FILE
BAND_CONTENT: BLACK&WHITE
BAND_CONTENT: UNDEFINED
BAND_CONTENT: UNDEFINED
BITS_PER_PIXEL: 8
SAMPLES_AND_LINES: 5317 7581
HORIZONTAL_DATUM: NAD83
HORIZONTAL_COORDINATE_SYSTEM: UTM
COORDINATE_ZONE: 13
HORIZONTAL_UNITS: meters
HORIZONTAL_RESOLUTION: 1.00000
SECONDARY_HORIZONTAL_DATUM: NAD27
XY_ORIGIN: 522826.00000 5351410.00000
SECONDARY_XY_ORIGIN: 522865.11500 5351188.79900
NATION: US
STATE: MT
NW_QUAD_CORNER_XY: 523169.95200 5351081.43700
NE_QUAD_CORNER_XY: 527803.93500 5351102.19900
SE_QUAD_CORNERY_XY: 527837.87400 5344155.25900
SW_QUAD_CORNER_XY: 523198.23400 5344134.49200
SECONDARY_NW_QUAD_XY: 523170.68600 5350862.49400
SECONDARY_NE_QUAD_XY: 527804.81600 5350883.25700
SECONDARY_SE_QUAD_XY: 527838.75400 5343936.32800
SECONDARY_SW_QUAD_XY: 523198.96800 5343915.56000
RMSE_XY: 5.38000
IMAGE_SOURCE: BLACK AND WHITE FILM
SOURCE_IMAGE_ID: NAPP 9080-106
SOURCE_IMAGE_DATE: 1996 6 12
SOURCE_DEM_DATE: 1998 0 0
AGENCY: WESTERN MAPPING CENTER (WMC)
PRODUCER: WOOLPERT LLP
PRODUCTION_SYSTEM: INTERGRAPH ISPM, ISIR
COMPRESSION: UNDEFINED
STANDARD_VERSION: 1996 12
METADATA_DATE: 2001 9 22
DATA_FILE_SIZE: 40313494
BYTE_COUNT: 5317
