FILENAME: O4810443.NWS.1163099.tif
QUADRANGLE_NAME: ROCKY POINT
QUADRANT: NW
WEST_LONGITUDE: -104 45 0.00000
EAST_LONGITUDE: -104 41 15.00000
NORTH_LATITUDE: 48 22 30.00000
SOUTH_LATITUDE: 48 18 45.00000
PRODUCTION_DATE: 2001 9 22
RASTER_ORDER: LEFT_RIGHT/TOP_BOTTOM
BAND_ORGANIZATION: SINGLE FILE
BAND_CONTENT: BLACK&WHITE
BAND_CONTENT: UNDEFINED
BAND_CONTENT: UNDEFINED
BITS_PER_PIXEL: 8
SAMPLES_AND_LINES: 5306 7577
HORIZONTAL_DATUM: NAD83
HORIZONTAL_COORDINATE_SYSTEM: UTM
COORDINATE_ZONE: 13
HORIZONTAL_UNITS: meters
HORIZONTAL_RESOLUTION: 1.00000
SECONDARY_HORIZONTAL_DATUM: NAD27
XY_ORIGIN: 518169.00000 5358336.00000
SECONDARY_XY_ORIGIN: 518208.09200 5358114.68600
NATION: US
STATE: MT
NW_QUAD_CORNER_XY: 518513.31800 5358011.47500
NE_QUAD_CORNER_XY: 523141.64200 5358028.45800
SE_QUAD_CORNERY_XY: 523169.95200 5351081.43700
SW_QUAD_CORNER_XY: 518535.96500 5351064.45000
SECONDARY_NW_QUAD_XY: 518513.90500 5357792.52100
SECONDARY_NE_QUAD_XY: 523142.37600 5357809.50500
SECONDARY_SE_QUAD_XY: 523170.68600 5350862.49400
SECONDARY_SW_QUAD_XY: 518536.55200 5350845.50600
RMSE_XY: 3.62000
IMAGE_SOURCE: BLACK AND WHITE FILM
SOURCE_IMAGE_ID: NAPP 9080-153
SOURCE_IMAGE_DATE: 1996 6 12
SOURCE_DEM_DATE: 1998 0 0
AGENCY: WESTERN MAPPING CENTER (WMC)
PRODUCER: WOOLPERT LLP
PRODUCTION_SYSTEM: INTERGRAPH ISPM, ISIR
COMPRESSION: UNDEFINED
STANDARD_VERSION: 1996 12
METADATA_DATE: 2001 9 22
DATA_FILE_SIZE: 40208868
BYTE_COUNT: 5306
