FILENAME: O4810443.NES.1163098.tif
QUADRANGLE_NAME: ROCKY POINT
QUADRANT: NE
WEST_LONGITUDE: -104 41 15.00000
EAST_LONGITUDE: -104 37 30.00000
NORTH_LATITUDE: 48 22 30.00000
SOUTH_LATITUDE: 48 18 45.00000
PRODUCTION_DATE: 2001 9 22
RASTER_ORDER: LEFT_RIGHT/TOP_BOTTOM
BAND_ORGANIZATION: SINGLE FILE
BAND_CONTENT: BLACK&WHITE
BAND_CONTENT: UNDEFINED
BAND_CONTENT: UNDEFINED
BITS_PER_PIXEL: 8
SAMPLES_AND_LINES: 5311 7581
HORIZONTAL_DATUM: NAD83
HORIZONTAL_COORDINATE_SYSTEM: UTM
COORDINATE_ZONE: 13
HORIZONTAL_UNITS: meters
HORIZONTAL_RESOLUTION: 1.00000
SECONDARY_HORIZONTAL_DATUM: NAD27
XY_ORIGIN: 522798.00000 5358357.00000
SECONDARY_XY_ORIGIN: 522837.06400 5358135.69600
NATION: US
STATE: MT
NW_QUAD_CORNER_XY: 523141.64200 5358028.45800
NE_QUAD_CORNER_XY: 527769.96400 5358049.21500
SE_QUAD_CORNERY_XY: 527803.93500 5351102.19900
SW_QUAD_CORNER_XY: 523169.95200 5351081.43700
SECONDARY_NW_QUAD_XY: 523142.37600 5357809.50500
SECONDARY_NE_QUAD_XY: 527770.84400 5357830.26300
SECONDARY_SE_QUAD_XY: 527804.81600 5350883.25700
SECONDARY_SW_QUAD_XY: 523170.68600 5350862.49400
RMSE_XY: 2.97000
IMAGE_SOURCE: BLACK AND WHITE FILM
SOURCE_IMAGE_ID: NAPP 9080-108
SOURCE_IMAGE_DATE: 1996 6 12
SOURCE_DEM_DATE: 1998 0 0
AGENCY: WESTERN MAPPING CENTER (WMC)
PRODUCER: WOOLPERT LLP
PRODUCTION_SYSTEM: INTERGRAPH ISPM, ISIR
COMPRESSION: UNDEFINED
STANDARD_VERSION: 1996 12
METADATA_DATE: 2001 9 22
DATA_FILE_SIZE: 40268002
BYTE_COUNT: 5311
