FILENAME: O4810444.SWS.1163113.tif
QUADRANGLE_NAME: JOHNSON LAKE
QUADRANT: SW
WEST_LONGITUDE: -104 37 30.00000
EAST_LONGITUDE: -104 33 45.00000
NORTH_LATITUDE: 48 18 45.00000
SOUTH_LATITUDE: 48 15 0.00000
PRODUCTION_DATE: 2001 9 22
RASTER_ORDER: LEFT_RIGHT/TOP_BOTTOM
BAND_ORGANIZATION: SINGLE FILE
BAND_CONTENT: BLACK&WHITE
BAND_CONTENT: UNDEFINED
BAND_CONTENT: UNDEFINED
BITS_PER_PIXEL: 8
SAMPLES_AND_LINES: 5323 7584
HORIZONTAL_DATUM: NAD83
HORIZONTAL_COORDINATE_SYSTEM: UTM
COORDINATE_ZONE: 13
HORIZONTAL_UNITS: meters
HORIZONTAL_RESOLUTION: 1.00000
SECONDARY_HORIZONTAL_DATUM: NAD27
XY_ORIGIN: 527460.00000 5351434.00000
SECONDARY_XY_ORIGIN: 527499.08700 5351212.81000
NATION: US
STATE: MT
NW_QUAD_CORNER_XY: 527803.93500 5351102.19900
NE_QUAD_CORNER_XY: 532437.91500 5351126.73700
SE_QUAD_CORNERY_XY: 532477.51000 5344179.80200
SW_QUAD_CORNER_XY: 527837.87400 5344155.25900
SECONDARY_NW_QUAD_XY: 527804.81600 5350883.25700
SECONDARY_NE_QUAD_XY: 532438.94200 5350907.79500
SECONDARY_SE_QUAD_XY: 532478.53700 5343960.87200
SECONDARY_SW_QUAD_XY: 527838.75400 5343936.32800
RMSE_XY: 4.27000
IMAGE_SOURCE: BLACK AND WHITE FILM
SOURCE_IMAGE_ID: NAPP 9082-029
SOURCE_IMAGE_DATE: 1996 6 12
SOURCE_DEM_DATE: 1998 0 0
AGENCY: WESTERN MAPPING CENTER (WMC)
PRODUCER: WOOLPERT LLP
PRODUCTION_SYSTEM: INTERGRAPH ISPM, ISIR
COMPRESSION: UNDEFINED
STANDARD_VERSION: 1996 12
METADATA_DATE: 2001 9 22
DATA_FILE_SIZE: 40374955
BYTE_COUNT: 5323
