FILENAME: O4810445.SES.1163521.tif
QUADRANGLE_NAME: FROID
QUADRANT: SE
WEST_LONGITUDE: -104 26 15.00000
EAST_LONGITUDE: -104 22 30.00000
NORTH_LATITUDE: 48 18 45.00000
SOUTH_LATITUDE: 48 15 0.00000
PRODUCTION_DATE: 2001 10 7
RASTER_ORDER: LEFT_RIGHT/TOP_BOTTOM
BAND_ORGANIZATION: SINGLE FILE
BAND_CONTENT: BLACK&WHITE
BAND_CONTENT: UNDEFINED
BAND_CONTENT: UNDEFINED
BITS_PER_PIXEL: 8
SAMPLES_AND_LINES: 5339 7596
HORIZONTAL_DATUM: NAD83
HORIZONTAL_COORDINATE_SYSTEM: UTM
COORDINATE_ZONE: 13
HORIZONTAL_UNITS: meters
HORIZONTAL_RESOLUTION: 1.00000
SECONDARY_HORIZONTAL_DATUM: NAD27
XY_ORIGIN: 541363.00000 5351531.00000
SECONDARY_XY_ORIGIN: 541401.98100 5351309.84300
NATION: US
STATE: MT
NW_QUAD_CORNER_XY: 541705.86000 5351187.13700
NE_QUAD_CORNER_XY: 546339.82500 5351222.99900
SE_QUAD_CORNERY_XY: 546396.39000 5344276.08900
SW_QUAD_CORNER_XY: 541756.76900 5344240.21700
SECONDARY_NW_QUAD_XY: 541707.18100 5350968.19700
SECONDARY_NE_QUAD_XY: 546341.29300 5351004.06100
SECONDARY_SE_QUAD_XY: 546397.85800 5344057.16200
SECONDARY_SW_QUAD_XY: 541758.09000 5344021.28900
RMSE_XY: 3.92000
IMAGE_SOURCE: BLACK AND WHITE FILM
SOURCE_IMAGE_ID: NAPP 9103-058
SOURCE_IMAGE_DATE: 1996 7 15
SOURCE_DEM_DATE: 1998 0 0
AGENCY: WESTERN MAPPING CENTER (WMC)
PRODUCER: WOOLPERT LLP
PRODUCTION_SYSTEM: INTERGRAPH ISPM, ISIR
COMPRESSION: UNDEFINED
STANDARD_VERSION: 1996 12
METADATA_DATE: 2001 10 7
DATA_FILE_SIZE: 40560383
BYTE_COUNT: 5339
