FILENAME: O4810445.NWS.1163520.tif
QUADRANGLE_NAME: FROID
QUADRANT: NW
WEST_LONGITUDE: -104 30 0.00000
EAST_LONGITUDE: -104 26 15.00000
NORTH_LATITUDE: 48 22 30.00000
SOUTH_LATITUDE: 48 18 45.00000
PRODUCTION_DATE: 2001 10 7
RASTER_ORDER: LEFT_RIGHT/TOP_BOTTOM
BAND_ORGANIZATION: SINGLE FILE
BAND_CONTENT: BLACK&WHITE
BAND_CONTENT: UNDEFINED
BAND_CONTENT: UNDEFINED
BITS_PER_PIXEL: 8
SAMPLES_AND_LINES: 5328 7592
HORIZONTAL_DATUM: NAD83
HORIZONTAL_COORDINATE_SYSTEM: UTM
COORDINATE_ZONE: 13
HORIZONTAL_UNITS: meters
HORIZONTAL_RESOLUTION: 1.00000
SECONDARY_HORIZONTAL_DATUM: NAD27
XY_ORIGIN: 536683.00000 5358442.00000
SECONDARY_XY_ORIGIN: 536721.98300 5358220.72100
NATION: US
STATE: MT
NW_QUAD_CORNER_XY: 537026.59400 5358102.05100
NE_QUAD_CORNER_XY: 541654.90200 5358134.13100
SE_QUAD_CORNERY_XY: 541705.86000 5351187.13700
SW_QUAD_CORNER_XY: 537071.89000 5351155.04900
SECONDARY_NW_QUAD_XY: 537027.76800 5357883.10100
SECONDARY_NE_QUAD_XY: 541656.22300 5357915.18100
SECONDARY_SE_QUAD_XY: 541707.18100 5350968.19700
SECONDARY_SW_QUAD_XY: 537073.06400 5350936.10800
RMSE_XY: 3.18000
IMAGE_SOURCE: BLACK AND WHITE FILM
SOURCE_IMAGE_ID: NAPP 9124-125
SOURCE_IMAGE_DATE: 1997 8 22
SOURCE_DEM_DATE: 1998 0 0
AGENCY: WESTERN MAPPING CENTER (WMC)
PRODUCER: WOOLPERT LLP
PRODUCTION_SYSTEM: INTERGRAPH ISPM, ISIR
COMPRESSION: UNDEFINED
STANDARD_VERSION: 1996 12
METADATA_DATE: 2001 10 7
DATA_FILE_SIZE: 40455504
BYTE_COUNT: 5328
