FILENAME: O4810446.SWS.1163534.tif
QUADRANGLE_NAME: FROID SE
QUADRANT: SW
WEST_LONGITUDE: -104 22 30.00000
EAST_LONGITUDE: -104 18 45.00000
NORTH_LATITUDE: 48 18 45.00000
SOUTH_LATITUDE: 48 15 0.00000
PRODUCTION_DATE: 2001 10 7
RASTER_ORDER: LEFT_RIGHT/TOP_BOTTOM
BAND_ORGANIZATION: SINGLE FILE
BAND_CONTENT: BLACK&WHITE
BAND_CONTENT: UNDEFINED
BAND_CONTENT: UNDEFINED
BITS_PER_PIXEL: 8
SAMPLES_AND_LINES: 5345 7599
HORIZONTAL_DATUM: NAD83
HORIZONTAL_COORDINATE_SYSTEM: UTM
COORDINATE_ZONE: 13
HORIZONTAL_UNITS: meters
HORIZONTAL_RESOLUTION: 1.00000
SECONDARY_HORIZONTAL_DATUM: NAD27
XY_ORIGIN: 545997.00000 5351570.00000
SECONDARY_XY_ORIGIN: 546035.92800 5351348.85900
NATION: US
STATE: MT
NW_QUAD_CORNER_XY: 546339.82500 5351222.99900
NE_QUAD_CORNER_XY: 550973.78300 5351262.63700
SE_QUAD_CORNERY_XY: 551036.00600 5344315.73700
SW_QUAD_CORNER_XY: 546396.39000 5344276.08900
SECONDARY_NW_QUAD_XY: 546341.29300 5351004.06100
SECONDARY_NE_QUAD_XY: 550975.39800 5351043.70000
SECONDARY_SE_QUAD_XY: 551037.62000 5344096.81100
SECONDARY_SW_QUAD_XY: 546397.85800 5344057.16200
RMSE_XY: 3.57000
IMAGE_SOURCE: BLACK AND WHITE FILM
SOURCE_IMAGE_ID: NAPP 9095-098
SOURCE_IMAGE_DATE: 1996 7 9
SOURCE_DEM_DATE: 1998 0 0
AGENCY: WESTERN MAPPING CENTER (WMC)
PRODUCER: WOOLPERT LLP
PRODUCTION_SYSTEM: INTERGRAPH ISPM, ISIR
COMPRESSION: UNDEFINED
STANDARD_VERSION: 1996 12
METADATA_DATE: 2001 10 7
DATA_FILE_SIZE: 40622000
BYTE_COUNT: 5345
