FILENAME: O4810446.NES.1163531.tif
QUADRANGLE_NAME: FROID SE
QUADRANT: NE
WEST_LONGITUDE: -104 18 45.00000
EAST_LONGITUDE: -104 15 0.00000
NORTH_LATITUDE: 48 22 30.00000
SOUTH_LATITUDE: 48 18 45.00000
PRODUCTION_DATE: 2001 10 7
RASTER_ORDER: LEFT_RIGHT/TOP_BOTTOM
BAND_ORGANIZATION: SINGLE FILE
BAND_CONTENT: BLACK&WHITE
BAND_CONTENT: UNDEFINED
BAND_CONTENT: UNDEFINED
BITS_PER_PIXEL: 8
SAMPLES_AND_LINES: 5344 7604
HORIZONTAL_DATUM: NAD83
HORIZONTAL_COORDINATE_SYSTEM: UTM
COORDINATE_ZONE: 13
HORIZONTAL_UNITS: meters
HORIZONTAL_RESOLUTION: 1.00000
SECONDARY_HORIZONTAL_DATUM: NAD27
XY_ORIGIN: 550569.00000 5358561.00000
SECONDARY_XY_ORIGIN: 550607.83200 5358339.78100
NATION: US
STATE: MT
NW_QUAD_CORNER_XY: 550911.50000 5358209.61300
NE_QUAD_CORNER_XY: 555539.78900 5358253.01500
SE_QUAD_CORNERY_XY: 555607.73500 5351306.05100
SW_QUAD_CORNER_XY: 550973.78300 5351262.63700
SECONDARY_NW_QUAD_XY: 550913.11500 5357990.66500
SECONDARY_NE_QUAD_XY: 555541.55000 5358034.06900
SECONDARY_SE_QUAD_XY: 555609.49600 5351087.11500
SECONDARY_SW_QUAD_XY: 550975.39800 5351043.70000
RMSE_XY: 4.32000
IMAGE_SOURCE: BLACK AND WHITE FILM
SOURCE_IMAGE_ID: NAPP 9124-082
SOURCE_IMAGE_DATE: 1997 8 22
SOURCE_DEM_DATE: 1998 0 0
AGENCY: WESTERN MAPPING CENTER (WMC)
PRODUCER: WOOLPERT LLP
PRODUCTION_SYSTEM: INTERGRAPH ISPM, ISIR
COMPRESSION: UNDEFINED
STANDARD_VERSION: 1996 12
METADATA_DATE: 2001 10 7
DATA_FILE_SIZE: 40641120
BYTE_COUNT: 5344
