FILENAME: O4810447.NES.1163543.tif
QUADRANGLE_NAME: BRUSH MOUNTAIN SW
QUADRANT: NE
WEST_LONGITUDE: -104 11 15.00000
EAST_LONGITUDE: -104 7 30.00000
NORTH_LATITUDE: 48 22 30.00000
SOUTH_LATITUDE: 48 18 45.00000
PRODUCTION_DATE: 2001 10 7
RASTER_ORDER: LEFT_RIGHT/TOP_BOTTOM
BAND_ORGANIZATION: SINGLE FILE
BAND_CONTENT: BLACK&WHITE
BAND_CONTENT: UNDEFINED
BAND_CONTENT: UNDEFINED
BITS_PER_PIXEL: 8
SAMPLES_AND_LINES: 5355 7611
HORIZONTAL_DATUM: NAD83
HORIZONTAL_COORDINATE_SYSTEM: UTM
COORDINATE_ZONE: 13
HORIZONTAL_UNITS: meters
HORIZONTAL_RESOLUTION: 1.00000
SECONDARY_HORIZONTAL_DATUM: NAD27
XY_ORIGIN: 559826.00000 5358659.00000
SECONDARY_XY_ORIGIN: 559864.73000 5358437.80900
NATION: US
STATE: MT
NW_QUAD_CORNER_XY: 560168.07000 5358300.19200
NE_QUAD_CORNER_XY: 564796.34200 5358351.14400
SE_QUAD_CORNERY_XY: 564875.61400 5351404.20400
SW_QUAD_CORNER_XY: 560241.67900 5351353.24000
SECONDARY_NW_QUAD_XY: 560169.97800 5358081.24800
SECONDARY_NE_QUAD_XY: 564798.39700 5358132.20100
SECONDARY_SE_QUAD_XY: 564877.66900 5351185.27200
SECONDARY_SW_QUAD_XY: 560243.58700 5351134.30500
RMSE_XY: 3.21000
IMAGE_SOURCE: BLACK AND WHITE FILM
SOURCE_IMAGE_ID: NAPP 10766-139
SOURCE_IMAGE_DATE: 1998 7 10
SOURCE_DEM_DATE: 1998 0 0
AGENCY: WESTERN MAPPING CENTER (WMC)
PRODUCER: WOOLPERT LLP
PRODUCTION_SYSTEM: INTERGRAPH ISPM, ISIR
COMPRESSION: UNDEFINED
STANDARD_VERSION: 1996 12
METADATA_DATE: 2001 10 7
DATA_FILE_SIZE: 40762260
BYTE_COUNT: 5355
