FILENAME: O4810448.SWS.1163552.tif
QUADRANGLE_NAME: BULL BUTTE
QUADRANT: SW
WEST_LONGITUDE: -104 7 30.00000
EAST_LONGITUDE: -104 3 45.00000
NORTH_LATITUDE: 48 18 45.00000
SOUTH_LATITUDE: 48 15 0.00000
PRODUCTION_DATE: 2001 10 7
RASTER_ORDER: LEFT_RIGHT/TOP_BOTTOM
BAND_ORGANIZATION: SINGLE FILE
BAND_CONTENT: BLACK&WHITE
BAND_CONTENT: UNDEFINED
BAND_CONTENT: UNDEFINED
BITS_PER_PIXEL: 8
SAMPLES_AND_LINES: 5367 7615
HORIZONTAL_DATUM: NAD83
HORIZONTAL_COORDINATE_SYSTEM: UTM
COORDINATE_ZONE: 13
HORIZONTAL_UNITS: meters
HORIZONTAL_RESOLUTION: 1.00000
SECONDARY_HORIZONTAL_DATUM: NAD27
XY_ORIGIN: 564533.00000 5351767.00000
SECONDARY_XY_ORIGIN: 564571.70800 5351545.89600
NATION: US
STATE: MT
NW_QUAD_CORNER_XY: 564875.61400 5351404.20400
NE_QUAD_CORNER_XY: 569509.54100 5351458.94400
SE_QUAD_CORNERY_XY: 569594.39200 5344512.09200
SW_QUAD_CORNER_XY: 564954.80800 5344457.33900
SECONDARY_NW_QUAD_XY: 564877.66900 5351185.27200
SECONDARY_NE_QUAD_XY: 569511.74200 5351240.01300
SECONDARY_SE_QUAD_XY: 569596.59400 5344293.17300
SECONDARY_SW_QUAD_XY: 564956.86300 5344238.41700
RMSE_XY: 3.46000
IMAGE_SOURCE: BLACK AND WHITE FILM
SOURCE_IMAGE_ID: NAPP 8631-026
SOURCE_IMAGE_DATE: 1995 7 28
SOURCE_DEM_DATE: 1996 2 1
AGENCY: WESTERN MAPPING CENTER (WMC)
PRODUCER: WOOLPERT LLP
PRODUCTION_SYSTEM: INTERGRAPH ISPM, ISIR
COMPRESSION: UNDEFINED
STANDARD_VERSION: 1996 12
METADATA_DATE: 2001 10 7
DATA_FILE_SIZE: 40875072
BYTE_COUNT: 5367
