FILENAME: O4810450.NWS.1133027.tif
QUADRANGLE_NAME: CALAIS
QUADRANT: NW
WEST_LONGITUDE: -104 52 30.00000
EAST_LONGITUDE: -104 48 45.00000
NORTH_LATITUDE: 48 15 0.00000
SOUTH_LATITUDE: 48 11 15.00000
PRODUCTION_DATE: 2001 3 13
RASTER_ORDER: LEFT_RIGHT/TOP_BOTTOM
BAND_ORGANIZATION: SINGLE FILE
BAND_CONTENT: BLACK&WHITE
BAND_CONTENT: UNDEFINED
BAND_CONTENT: UNDEFINED
BITS_PER_PIXEL: 8
SAMPLES_AND_LINES: 5306 7570
HORIZONTAL_DATUM: NAD83
HORIZONTAL_COORDINATE_SYSTEM: UTM
COORDINATE_ZONE: 13
HORIZONTAL_UNITS: meters
HORIZONTAL_RESOLUTION: 1.00000
SECONDARY_HORIZONTAL_DATUM: NAD27
XY_ORIGIN: 508935.00000 5344412.00000
SECONDARY_XY_ORIGIN: 508974.26400 5344190.84900
NATION: US
STATE: MT
NW_QUAD_CORNER_XY: 509279.29800 5344094.84500
NE_QUAD_CORNER_XY: 513918.94500 5344104.28500
SE_QUAD_CORNERY_XY: 513935.89800 5337157.40800
SW_QUAD_CORNER_XY: 509290.59900 5337147.96600
SECONDARY_NW_QUAD_XY: 509279.59100 5343875.91200
SECONDARY_NE_QUAD_XY: 513919.38500 5343885.35200
SECONDARY_SE_QUAD_XY: 513936.33800 5336938.48700
SECONDARY_SW_QUAD_XY: 509290.89300 5336929.04500
RMSE_XY: 1.93000
IMAGE_SOURCE: BLACK AND WHITE FILM
SOURCE_IMAGE_ID: NAPP 9081-113
SOURCE_IMAGE_DATE: 1996 6 12
SOURCE_DEM_DATE: 1998 0 0
AGENCY: WESTERN MAPPING CENTER (WMC)
PRODUCER: WOOLPERT LLP
PRODUCTION_SYSTEM: INTERGRAPH ISPM, ISIR
COMPRESSION: UNDEFINED
STANDARD_VERSION: 1996 12
METADATA_DATE: 2001 3 13
DATA_FILE_SIZE: 40171726
BYTE_COUNT: 5306
