FILENAME: O4810450.NES.1133026.tif
QUADRANGLE_NAME: CALAIS
QUADRANT: NE
WEST_LONGITUDE: -104 48 45.00000
EAST_LONGITUDE: -104 45 0.00000
NORTH_LATITUDE: 48 15 0.00000
SOUTH_LATITUDE: 48 11 15.00000
PRODUCTION_DATE: 2001 3 13
RASTER_ORDER: LEFT_RIGHT/TOP_BOTTOM
BAND_ORGANIZATION: SINGLE FILE
BAND_CONTENT: BLACK&WHITE
BAND_CONTENT: UNDEFINED
BAND_CONTENT: UNDEFINED
BITS_PER_PIXEL: 8
SAMPLES_AND_LINES: 5312 7573
HORIZONTAL_DATUM: NAD83
HORIZONTAL_COORDINATE_SYSTEM: UTM
COORDINATE_ZONE: 13
HORIZONTAL_UNITS: meters
HORIZONTAL_RESOLUTION: 1.00000
SECONDARY_HORIZONTAL_DATUM: NAD27
XY_ORIGIN: 513575.00000 5344425.00000
SECONDARY_XY_ORIGIN: 513614.22900 5344203.86600
NATION: US
STATE: MT
NW_QUAD_CORNER_XY: 513918.94500 5344104.28500
NE_QUAD_CORNER_XY: 518558.59100 5344117.50000
SE_QUAD_CORNERY_XY: 518581.19400 5337170.62600
SW_QUAD_CORNER_XY: 513935.89800 5337157.40800
SECONDARY_NW_QUAD_XY: 513919.38500 5343885.35200
SECONDARY_NE_QUAD_XY: 518559.17800 5343898.56800
SECONDARY_SE_QUAD_XY: 518581.78100 5336951.70600
SECONDARY_SW_QUAD_XY: 513936.33800 5336938.48700
RMSE_XY: 2.13000
IMAGE_SOURCE: BLACK AND WHITE FILM
SOURCE_IMAGE_ID: NAPP 9081-060
SOURCE_IMAGE_DATE: 1996 6 12
SOURCE_DEM_DATE: 1998 0 0
AGENCY: WESTERN MAPPING CENTER (WMC)
PRODUCER: WOOLPERT LLP
PRODUCTION_SYSTEM: INTERGRAPH ISPM, ISIR
COMPRESSION: UNDEFINED
STANDARD_VERSION: 1996 12
METADATA_DATE: 2001 3 13
DATA_FILE_SIZE: 40233088
BYTE_COUNT: 5312
