FILENAME: O4810451.SWS.1133041.tif
QUADRANGLE_NAME: FORT KIPP
QUADRANT: SW
WEST_LONGITUDE: -104 45 0.00000
EAST_LONGITUDE: -104 41 15.00000
NORTH_LATITUDE: 48 11 15.00000
SOUTH_LATITUDE: 48 7 30.00000
PRODUCTION_DATE: 2001 3 7
RASTER_ORDER: LEFT_RIGHT/TOP_BOTTOM
BAND_ORGANIZATION: SINGLE FILE
BAND_CONTENT: BLACK&WHITE
BAND_CONTENT: UNDEFINED
BAND_CONTENT: UNDEFINED
BITS_PER_PIXEL: 8
SAMPLES_AND_LINES: 5323 7577
HORIZONTAL_DATUM: NAD83
HORIZONTAL_COORDINATE_SYSTEM: UTM
COORDINATE_ZONE: 13
HORIZONTAL_UNITS: meters
HORIZONTAL_RESOLUTION: 1.00000
SECONDARY_HORIZONTAL_DATUM: NAD27
XY_ORIGIN: 518237.00000 5337495.00000
SECONDARY_XY_ORIGIN: 518276.22300 5337273.96000
NATION: US
STATE: MT
NW_QUAD_CORNER_XY: 518581.19400 5337170.62600
NE_QUAD_CORNER_XY: 523226.48800 5337187.62200
SE_QUAD_CORNERY_XY: 523254.71400 5330240.82800
SW_QUAD_CORNER_XY: 518603.77500 5330223.82800
SECONDARY_NW_QUAD_XY: 518581.78100 5336951.70600
SECONDARY_NE_QUAD_XY: 523227.22200 5336968.70200
SECONDARY_SE_QUAD_XY: 523255.44800 5330021.92100
SECONDARY_SW_QUAD_XY: 518604.36200 5330004.92100
RMSE_XY: 1.84000
IMAGE_SOURCE: BLACK AND WHITE FILM
SOURCE_IMAGE_ID: NAPP 9080-159
SOURCE_IMAGE_DATE: 1996 6 12
SOURCE_DEM_DATE: 1998 0 0
AGENCY: WESTERN MAPPING CENTER (WMC)
PRODUCER: WOOLPERT LLP
PRODUCTION_SYSTEM: INTERGRAPH ISPM, ISIR
COMPRESSION: UNDEFINED
STANDARD_VERSION: 1996 12
METADATA_DATE: 2001 3 7
DATA_FILE_SIZE: 40337694
BYTE_COUNT: 5323
