FILENAME: O4810451.NWS.1133039.tif
QUADRANGLE_NAME: FORT KIPP
QUADRANT: NW
WEST_LONGITUDE: -104 45 0.00000
EAST_LONGITUDE: -104 41 15.00000
NORTH_LATITUDE: 48 15 0.00000
SOUTH_LATITUDE: 48 11 15.00000
PRODUCTION_DATE: 2001 3 7
RASTER_ORDER: LEFT_RIGHT/TOP_BOTTOM
BAND_ORGANIZATION: SINGLE FILE
BAND_CONTENT: BLACK&WHITE
BAND_CONTENT: UNDEFINED
BAND_CONTENT: UNDEFINED
BITS_PER_PIXEL: 8
SAMPLES_AND_LINES: 5318 7577
HORIZONTAL_DATUM: NAD83
HORIZONTAL_COORDINATE_SYSTEM: UTM
COORDINATE_ZONE: 13
HORIZONTAL_UNITS: meters
HORIZONTAL_RESOLUTION: 1.00000
SECONDARY_HORIZONTAL_DATUM: NAD27
XY_ORIGIN: 518214.00000 5344442.00000
SECONDARY_XY_ORIGIN: 518253.19400 5344220.88200
NATION: US
STATE: MT
NW_QUAD_CORNER_XY: 518558.59100 5344117.50000
NE_QUAD_CORNER_XY: 523198.23400 5344134.49200
SE_QUAD_CORNERY_XY: 523226.48800 5337187.62200
SW_QUAD_CORNER_XY: 518581.19400 5337170.62600
SECONDARY_NW_QUAD_XY: 518559.17800 5343898.56800
SECONDARY_NE_QUAD_XY: 523198.96800 5343915.56000
SECONDARY_SE_QUAD_XY: 523227.22200 5336968.70200
SECONDARY_SW_QUAD_XY: 518581.78100 5336951.70600
RMSE_XY: 2.07000
IMAGE_SOURCE: BLACK AND WHITE FILM
SOURCE_IMAGE_ID: NAPP 9080-157
SOURCE_IMAGE_DATE: 1996 6 12
SOURCE_DEM_DATE: 1998 0 0
AGENCY: WESTERN MAPPING CENTER (WMC)
PRODUCER: WOOLPERT LLP
PRODUCTION_SYSTEM: INTERGRAPH ISPM, ISIR
COMPRESSION: UNDEFINED
STANDARD_VERSION: 1996 12
METADATA_DATE: 2001 3 7
DATA_FILE_SIZE: 40299804
BYTE_COUNT: 5318
