FILENAME: O4810451.NES.1133038.tif
QUADRANGLE_NAME: FORT KIPP
QUADRANT: NE
WEST_LONGITUDE: -104 41 15.00000
EAST_LONGITUDE: -104 37 30.00000
NORTH_LATITUDE: 48 15 0.00000
SOUTH_LATITUDE: 48 11 15.00000
PRODUCTION_DATE: 2001 3 7
RASTER_ORDER: LEFT_RIGHT/TOP_BOTTOM
BAND_ORGANIZATION: SINGLE FILE
BAND_CONTENT: BLACK&WHITE
BAND_CONTENT: UNDEFINED
BAND_CONTENT: UNDEFINED
BITS_PER_PIXEL: 8
SAMPLES_AND_LINES: 5323 7581
HORIZONTAL_DATUM: NAD83
HORIZONTAL_COORDINATE_SYSTEM: UTM
COORDINATE_ZONE: 13
HORIZONTAL_UNITS: meters
HORIZONTAL_RESOLUTION: 1.00000
SECONDARY_HORIZONTAL_DATUM: NAD27
XY_ORIGIN: 522854.00000 5344463.00000
SECONDARY_XY_ORIGIN: 522893.16500 5344241.90200
NATION: US
STATE: MT
NW_QUAD_CORNER_XY: 523198.23400 5344134.49200
NE_QUAD_CORNER_XY: 527837.87400 5344155.25900
SE_QUAD_CORNERY_XY: 527871.77900 5337208.39400
SW_QUAD_CORNER_XY: 523226.48800 5337187.62200
SECONDARY_NW_QUAD_XY: 523198.96800 5343915.56000
SECONDARY_NE_QUAD_XY: 527838.75400 5343936.32800
SECONDARY_SE_QUAD_XY: 527872.65900 5336989.47500
SECONDARY_SW_QUAD_XY: 523227.22200 5336968.70200
RMSE_XY: 1.77000
IMAGE_SOURCE: BLACK AND WHITE FILM
SOURCE_IMAGE_ID: NAPP 9080-104
SOURCE_IMAGE_DATE: 1996 6 12
SOURCE_DEM_DATE: 1998 0 0
AGENCY: WESTERN MAPPING CENTER (WMC)
PRODUCER: WOOLPERT LLP
PRODUCTION_SYSTEM: INTERGRAPH ISPM, ISIR
COMPRESSION: UNDEFINED
STANDARD_VERSION: 1996 12
METADATA_DATE: 2001 3 7
DATA_FILE_SIZE: 40358986
BYTE_COUNT: 5323
