FILENAME: O4810452.SWS.1133053.tif
QUADRANGLE_NAME: CULBERTSON
QUADRANT: SW
WEST_LONGITUDE: -104 37 30.00000
EAST_LONGITUDE: -104 33 45.00000
NORTH_LATITUDE: 48 11 15.00000
SOUTH_LATITUDE: 48 7 30.00000
PRODUCTION_DATE: 2001 3 13
RASTER_ORDER: LEFT_RIGHT/TOP_BOTTOM
BAND_ORGANIZATION: SINGLE FILE
BAND_CONTENT: BLACK&WHITE
BAND_CONTENT: UNDEFINED
BAND_CONTENT: UNDEFINED
BITS_PER_PIXEL: 8
SAMPLES_AND_LINES: 5334 7585
HORIZONTAL_DATUM: NAD83
HORIZONTAL_COORDINATE_SYSTEM: UTM
COORDINATE_ZONE: 13
HORIZONTAL_UNITS: meters
HORIZONTAL_RESOLUTION: 1.00000
SECONDARY_HORIZONTAL_DATUM: NAD27
XY_ORIGIN: 527528.00000 5337541.00000
SECONDARY_XY_ORIGIN: 527567.16700 5337319.99200
NATION: US
STATE: MT
NW_QUAD_CORNER_XY: 527871.77900 5337208.39400
NE_QUAD_CORNER_XY: 532517.06600 5337232.94400
SE_QUAD_CORNERY_XY: 532556.58300 5330286.16100
SW_QUAD_CORNER_XY: 527905.65000 5330261.60500
SECONDARY_NW_QUAD_XY: 527872.65900 5336989.47500
SECONDARY_NE_QUAD_XY: 532518.09300 5337014.02500
SECONDARY_SE_QUAD_XY: 532557.61000 5330067.25500
SECONDARY_SW_QUAD_XY: 527906.53100 5330042.69900
RMSE_XY: 2.05000
IMAGE_SOURCE: BLACK AND WHITE FILM
SOURCE_IMAGE_ID: NAPP 9082-033
SOURCE_IMAGE_DATE: 1996 6 12
SOURCE_DEM_DATE: 1998 0 0
AGENCY: WESTERN MAPPING CENTER (WMC)
PRODUCER: WOOLPERT LLP
PRODUCTION_SYSTEM: INTERGRAPH ISPM, ISIR
COMPRESSION: UNDEFINED
STANDARD_VERSION: 1996 12
METADATA_DATE: 2001 3 13
DATA_FILE_SIZE: 40463724
BYTE_COUNT: 5334
