FILENAME: O4810452.NES.1133050.tif
QUADRANGLE_NAME: CULBERTSON
QUADRANT: NE
WEST_LONGITUDE: -104 33 45.00000
EAST_LONGITUDE: -104 30 0.00000
NORTH_LATITUDE: 48 15 0.00000
SOUTH_LATITUDE: 48 11 15.00000
PRODUCTION_DATE: 2001 3 13
RASTER_ORDER: LEFT_RIGHT/TOP_BOTTOM
BAND_ORGANIZATION: SINGLE FILE
BAND_CONTENT: BLACK&WHITE
BAND_CONTENT: UNDEFINED
BAND_CONTENT: UNDEFINED
BITS_PER_PIXEL: 8
SAMPLES_AND_LINES: 5334 7589
HORIZONTAL_DATUM: NAD83
HORIZONTAL_COORDINATE_SYSTEM: UTM
COORDINATE_ZONE: 13
HORIZONTAL_UNITS: meters
HORIZONTAL_RESOLUTION: 1.00000
SECONDARY_HORIZONTAL_DATUM: NAD27
XY_ORIGIN: 532134.00000 5344516.00000
SECONDARY_XY_ORIGIN: 532173.10800 5344294.92300
NATION: US
STATE: MT
NW_QUAD_CORNER_XY: 532477.51000 5344179.80200
NE_QUAD_CORNER_XY: 537117.14200 5344208.12200
SE_QUAD_CORNERY_XY: 537162.34900 5337261.27000
SW_QUAD_CORNER_XY: 532517.06600 5337232.94400
SECONDARY_NW_QUAD_XY: 532478.53700 5343960.87200
SECONDARY_NE_QUAD_XY: 537118.31600 5343989.19200
SECONDARY_SE_QUAD_XY: 537163.52300 5337042.35200
SECONDARY_SW_QUAD_XY: 532518.09300 5337014.02500
RMSE_XY: 1.74000
IMAGE_SOURCE: BLACK AND WHITE FILM
SOURCE_IMAGE_ID: NAPP 9082-078
SOURCE_IMAGE_DATE: 1996 6 12
SOURCE_DEM_DATE: 1998 0 0
AGENCY: WESTERN MAPPING CENTER (WMC)
PRODUCER: WOOLPERT LLP
PRODUCTION_SYSTEM: INTERGRAPH ISPM, ISIR
COMPRESSION: UNDEFINED
STANDARD_VERSION: 1996 12
METADATA_DATE: 2001 3 13
DATA_FILE_SIZE: 40485060
BYTE_COUNT: 5334
