FILENAME: O4810453.SES.1134879.tif
QUADRANGLE_NAME: MCCABE WEST
QUADRANT: SE
WEST_LONGITUDE: -104 26 15.00000
EAST_LONGITUDE: -104 22 30.00000
NORTH_LATITUDE: 48 11 15.00000
SOUTH_LATITUDE: 48 7 30.00000
PRODUCTION_DATE: 2001 3 15
RASTER_ORDER: LEFT_RIGHT/TOP_BOTTOM
BAND_ORGANIZATION: SINGLE FILE
BAND_CONTENT: BLACK&WHITE
BAND_CONTENT: UNDEFINED
BAND_CONTENT: UNDEFINED
BITS_PER_PIXEL: 8
SAMPLES_AND_LINES: 5351 7596
HORIZONTAL_DATUM: NAD83
HORIZONTAL_COORDINATE_SYSTEM: UTM
COORDINATE_ZONE: 13
HORIZONTAL_UNITS: meters
HORIZONTAL_RESOLUTION: 1.00000
SECONDARY_HORIZONTAL_DATUM: NAD27
XY_ORIGIN: 541464.00000 5337637.00000
SECONDARY_XY_ORIGIN: 541503.06000 5337416.03700
NATION: US
STATE: MT
NW_QUAD_CORNER_XY: 541807.62700 5337293.37300
NE_QUAD_CORNER_XY: 546452.90000 5337329.25400
SE_QUAD_CORNERY_XY: 546509.35400 5330382.49300
SW_QUAD_CORNER_XY: 541858.43500 5330346.60400
SECONDARY_NW_QUAD_XY: 541808.94800 5337074.45700
SECONDARY_NE_QUAD_XY: 546454.36700 5337110.33800
SECONDARY_SE_QUAD_XY: 546510.82100 5330163.59100
SECONDARY_SW_QUAD_XY: 541859.75600 5330127.70100
RMSE_XY: 1.81000
IMAGE_SOURCE: BLACK AND WHITE FILM
SOURCE_IMAGE_ID: NAPP 9103-054
SOURCE_IMAGE_DATE: 1996 7 15
SOURCE_IMAGE_ID: NAPP 9083-038
SOURCE_IMAGE_DATE: 1996 6 12
SOURCE_DEM_DATE: 1998 0 0
AGENCY: WESTERN MAPPING CENTER (WMC)
PRODUCER: WOOLPERT LLP
PRODUCTION_SYSTEM: INTERGRAPH ISPM, ISIR
COMPRESSION: UNDEFINED
STANDARD_VERSION: 1996 12
METADATA_DATE: 2001 3 29
DATA_FILE_SIZE: 40651547
BYTE_COUNT: 5351
