FILENAME: O4810453.NWS.1134878.tif
QUADRANGLE_NAME: MCCABE WEST
QUADRANT: NW
WEST_LONGITUDE: -104 30 0.00000
EAST_LONGITUDE: -104 26 15.00000
NORTH_LATITUDE: 48 15 0.00000
SOUTH_LATITUDE: 48 11 15.00000
PRODUCTION_DATE: 2001 3 15
RASTER_ORDER: LEFT_RIGHT/TOP_BOTTOM
BAND_ORGANIZATION: SINGLE FILE
BAND_CONTENT: BLACK&WHITE
BAND_CONTENT: UNDEFINED
BAND_CONTENT: UNDEFINED
BITS_PER_PIXEL: 8
SAMPLES_AND_LINES: 5339 7592
HORIZONTAL_DATUM: NAD83
HORIZONTAL_COORDINATE_SYSTEM: UTM
COORDINATE_ZONE: 13
HORIZONTAL_UNITS: meters
HORIZONTAL_RESOLUTION: 1.00000
SECONDARY_HORIZONTAL_DATUM: NAD27
XY_ORIGIN: 536774.00000 5344548.00000
SECONDARY_XY_ORIGIN: 536813.08000 5344326.94200
NATION: US
STATE: MT
NW_QUAD_CORNER_XY: 537117.14200 5344208.12200
NE_QUAD_CORNER_XY: 541756.76900 5344240.21700
SE_QUAD_CORNERY_XY: 541807.62700 5337293.37300
SW_QUAD_CORNER_XY: 537162.34900 5337261.27000
SECONDARY_NW_QUAD_XY: 537118.31600 5343989.19200
SECONDARY_NE_QUAD_XY: 541758.09000 5344021.28900
SECONDARY_SE_QUAD_XY: 541808.94800 5337074.45700
SECONDARY_SW_QUAD_XY: 537163.52300 5337042.35200
RMSE_XY: 1.77000
IMAGE_SOURCE: BLACK AND WHITE FILM
SOURCE_IMAGE_ID: NAPP 9083-035
SOURCE_IMAGE_DATE: 1996 6 12
SOURCE_DEM_DATE: 1998 0 0
AGENCY: WESTERN MAPPING CENTER (WMC)
PRODUCER: WOOLPERT LLP
PRODUCTION_SYSTEM: INTERGRAPH ISPM, ISIR
COMPRESSION: UNDEFINED
STANDARD_VERSION: 1996 12
METADATA_DATE: 2001 3 15
DATA_FILE_SIZE: 40539027
BYTE_COUNT: 5339
