FILENAME: O4810453.NES.1134877.tif
QUADRANGLE_NAME: MCCABE WEST
QUADRANT: NE
WEST_LONGITUDE: -104 26 15.00000
EAST_LONGITUDE: -104 22 30.00000
NORTH_LATITUDE: 48 15 0.00000
SOUTH_LATITUDE: 48 11 15.00000
PRODUCTION_DATE: 2001 3 15
RASTER_ORDER: LEFT_RIGHT/TOP_BOTTOM
BAND_ORGANIZATION: SINGLE FILE
BAND_CONTENT: BLACK&WHITE
BAND_CONTENT: UNDEFINED
BAND_CONTENT: UNDEFINED
BITS_PER_PIXEL: 8
SAMPLES_AND_LINES: 5344 7596
HORIZONTAL_DATUM: NAD83
HORIZONTAL_COORDINATE_SYSTEM: UTM
COORDINATE_ZONE: 13
HORIZONTAL_UNITS: meters
HORIZONTAL_RESOLUTION: 1.00000
SECONDARY_HORIZONTAL_DATUM: NAD27
XY_ORIGIN: 541414.00000 5344584.00000
SECONDARY_XY_ORIGIN: 541453.02700 5344362.95400
NATION: US
STATE: MT
NW_QUAD_CORNER_XY: 541756.76900 5344240.21700
NE_QUAD_CORNER_XY: 546396.39000 5344276.08900
SE_QUAD_CORNERY_XY: 546452.90000 5337329.25400
SW_QUAD_CORNER_XY: 541807.62700 5337293.37300
SECONDARY_NW_QUAD_XY: 541758.09000 5344021.28900
SECONDARY_NE_QUAD_XY: 546397.85800 5344057.16200
SECONDARY_SE_QUAD_XY: 546454.36700 5337110.33800
SECONDARY_SW_QUAD_XY: 541808.94800 5337074.45700
RMSE_XY: 1.69000
IMAGE_SOURCE: BLACK AND WHITE FILM
SOURCE_IMAGE_ID: NAPP 9103-056
SOURCE_IMAGE_DATE: 1996 7 15
SOURCE_DEM_DATE: 1998 0 0
AGENCY: WESTERN MAPPING CENTER (WMC)
PRODUCER: WOOLPERT LLP
PRODUCTION_SYSTEM: INTERGRAPH ISPM, ISIR
COMPRESSION: UNDEFINED
STANDARD_VERSION: 1996 12
METADATA_DATE: 2001 3 15
DATA_FILE_SIZE: 40598368
BYTE_COUNT: 5344
