FILENAME: O4810454.NWS.1134890.tif
QUADRANGLE_NAME: MCCABE EAST
QUADRANT: NW
WEST_LONGITUDE: -104 22 30.00000
EAST_LONGITUDE: -104 18 45.00000
NORTH_LATITUDE: 48 15 0.00000
SOUTH_LATITUDE: 48 11 15.00000
PRODUCTION_DATE: 2001 3 15
RASTER_ORDER: LEFT_RIGHT/TOP_BOTTOM
BAND_ORGANIZATION: SINGLE FILE
BAND_CONTENT: BLACK&WHITE
BAND_CONTENT: UNDEFINED
BAND_CONTENT: UNDEFINED
BITS_PER_PIXEL: 8
SAMPLES_AND_LINES: 5351 7599
HORIZONTAL_DATUM: NAD83
HORIZONTAL_COORDINATE_SYSTEM: UTM
COORDINATE_ZONE: 13
HORIZONTAL_UNITS: meters
HORIZONTAL_RESOLUTION: 1.00000
SECONDARY_HORIZONTAL_DATUM: NAD27
XY_ORIGIN: 546053.00000 5344623.00000
SECONDARY_XY_ORIGIN: 546091.97300 5344401.96400
NATION: US
STATE: MT
NW_QUAD_CORNER_XY: 546396.39000 5344276.08900
NE_QUAD_CORNER_XY: 551036.00600 5344315.73700
SE_QUAD_CORNERY_XY: 551098.16700 5337368.91100
SW_QUAD_CORNER_XY: 546452.90000 5337329.25400
SECONDARY_NW_QUAD_XY: 546397.85800 5344057.16200
SECONDARY_NE_QUAD_XY: 551037.62000 5344096.81100
SECONDARY_SE_QUAD_XY: 551099.78100 5337149.99700
SECONDARY_SW_QUAD_XY: 546454.36700 5337110.33800
RMSE_XY: 1.58000
IMAGE_SOURCE: BLACK AND WHITE FILM
SOURCE_IMAGE_ID: NAPP 9124-118
SOURCE_IMAGE_DATE: 1997 8 22
SOURCE_DEM_DATE: 1998 0 0
AGENCY: WESTERN MAPPING CENTER (WMC)
PRODUCER: WOOLPERT LLP
PRODUCTION_SYSTEM: INTERGRAPH ISPM, ISIR
COMPRESSION: UNDEFINED
STANDARD_VERSION: 1996 12
METADATA_DATE: 2001 3 15
DATA_FILE_SIZE: 40667600
BYTE_COUNT: 5351
