FILENAME: O4810454.NES.1134889.tif
QUADRANGLE_NAME: MCCABE EAST
QUADRANT: NE
WEST_LONGITUDE: -104 18 45.00000
EAST_LONGITUDE: -104 15 0.00000
NORTH_LATITUDE: 48 15 0.00000
SOUTH_LATITUDE: 48 11 15.00000
PRODUCTION_DATE: 2001 3 15
RASTER_ORDER: LEFT_RIGHT/TOP_BOTTOM
BAND_ORGANIZATION: SINGLE FILE
BAND_CONTENT: BLACK&WHITE
BAND_CONTENT: UNDEFINED
BAND_CONTENT: UNDEFINED
BITS_PER_PIXEL: 8
SAMPLES_AND_LINES: 5356 7604
HORIZONTAL_DATUM: NAD83
HORIZONTAL_COORDINATE_SYSTEM: UTM
COORDINATE_ZONE: 13
HORIZONTAL_UNITS: meters
HORIZONTAL_RESOLUTION: 1.00000
SECONDARY_HORIZONTAL_DATUM: NAD27
XY_ORIGIN: 550693.00000 5344667.00000
SECONDARY_XY_ORIGIN: 550731.91900 5344445.97500
NATION: US
STATE: MT
NW_QUAD_CORNER_XY: 551036.00600 5344315.73700
NE_QUAD_CORNER_XY: 555675.61400 5344359.16100
SE_QUAD_CORNERY_XY: 555743.42700 5337412.34600
SW_QUAD_CORNER_XY: 551098.16700 5337368.91100
SECONDARY_NW_QUAD_XY: 551037.62000 5344096.81100
SECONDARY_NE_QUAD_XY: 555677.37500 5344140.23600
SECONDARY_SE_QUAD_XY: 555745.18800 5337193.43300
SECONDARY_SW_QUAD_XY: 551099.78100 5337149.99700
RMSE_XY: 1.67000
IMAGE_SOURCE: BLACK AND WHITE FILM
SOURCE_IMAGE_ID: NAPP 9124-078
SOURCE_IMAGE_DATE: 1997 8 22
SOURCE_DEM_DATE: 1998 0 0
AGENCY: WESTERN MAPPING CENTER (WMC)
PRODUCER: WOOLPERT LLP
PRODUCTION_SYSTEM: INTERGRAPH ISPM, ISIR
COMPRESSION: UNDEFINED
STANDARD_VERSION: 1996 12
METADATA_DATE: 2001 3 15
DATA_FILE_SIZE: 40732380
BYTE_COUNT: 5356
