FILENAME: O4810456.NWS.1134911.tif
QUADRANGLE_NAME: RED BANK CREEK
QUADRANT: NW
WEST_LONGITUDE: -104 7 30.00000
EAST_LONGITUDE: -104 3 45.00000
NORTH_LATITUDE: 48 15 0.00000
SOUTH_LATITUDE: 48 11 15.00000
PRODUCTION_DATE: 2001 3 9
RASTER_ORDER: LEFT_RIGHT/TOP_BOTTOM
BAND_ORGANIZATION: SINGLE FILE
BAND_CONTENT: BLACK&WHITE
BAND_CONTENT: UNDEFINED
BAND_CONTENT: UNDEFINED
BITS_PER_PIXEL: 8
SAMPLES_AND_LINES: 5372 7615
HORIZONTAL_DATUM: NAD83
HORIZONTAL_COORDINATE_SYSTEM: UTM
COORDINATE_ZONE: 13
HORIZONTAL_UNITS: meters
HORIZONTAL_RESOLUTION: 1.00000
SECONDARY_HORIZONTAL_DATUM: NAD27
XY_ORIGIN: 564613.00000 5344820.00000
SECONDARY_XY_ORIGIN: 564651.73900 5344598.97900
NATION: US
STATE: MT
NW_QUAD_CORNER_XY: 564954.80800 5344457.33900
NE_QUAD_CORNER_XY: 569594.39200 5344512.09200
SE_QUAD_CORNERY_XY: 569679.16000 5337565.31400
SW_QUAD_CORNER_XY: 565033.92400 5337510.54700
SECONDARY_NW_QUAD_XY: 564956.86300 5344238.41700
SECONDARY_NE_QUAD_XY: 569596.59400 5344293.17300
SECONDARY_SE_QUAD_XY: 569681.36200 5337346.40600
SECONDARY_SW_QUAD_XY: 565035.97900 5337291.63800
RMSE_XY: 1.95000
IMAGE_SOURCE: BLACK AND WHITE FILM
SOURCE_IMAGE_ID: NAPP 8631-028
SOURCE_IMAGE_DATE: 1995 7 28
SOURCE_IMAGE_ID: NAPP 8631-029
SOURCE_IMAGE_DATE: 1995 7 28
SOURCE_IMAGE_ID: NAPP 9123-141
SOURCE_IMAGE_DATE: 1997 8 3
SOURCE_DEM_DATE: 1996 2 1
AGENCY: WESTERN MAPPING CENTER (WMC)
PRODUCER: WOOLPERT LLP
PRODUCTION_SYSTEM: INTERGRAPH ISPM, ISIR
COMPRESSION: UNDEFINED
STANDARD_VERSION: 1996 12
METADATA_DATE: 2001 3 27
DATA_FILE_SIZE: 40913152
BYTE_COUNT: 5372
