FILENAME: O4810458.SES.1133032.tif
QUADRANGLE_NAME: FROG COULEE
QUADRANT: SE
WEST_LONGITUDE: -104 48 45.00000
EAST_LONGITUDE: -104 45 0.00000
NORTH_LATITUDE: 48 3 45.00000
SOUTH_LATITUDE: 48 0 0.00000
PRODUCTION_DATE: 2001 3 13
RASTER_ORDER: LEFT_RIGHT/TOP_BOTTOM
BAND_ORGANIZATION: SINGLE FILE
BAND_CONTENT: BLACK&WHITE
BAND_CONTENT: UNDEFINED
BAND_CONTENT: UNDEFINED
BITS_PER_PIXEL: 8
SAMPLES_AND_LINES: 5329 7573
HORIZONTAL_DATUM: NAD83
HORIZONTAL_COORDINATE_SYSTEM: UTM
COORDINATE_ZONE: 13
HORIZONTAL_UNITS: meters
HORIZONTAL_RESOLUTION: 1.00000
SECONDARY_HORIZONTAL_DATUM: NAD27
XY_ORIGIN: 513625.00000 5323585.00000
SECONDARY_XY_ORIGIN: 513664.31600 5323364.08800
NATION: US
STATE: MT
NW_QUAD_CORNER_XY: 513969.75200 5323263.88100
NE_QUAD_CORNER_XY: 518626.33300 5323277.10600
SE_QUAD_CORNERY_XY: 518648.87000 5316330.46000
SW_QUAD_CORNER_XY: 513986.65400 5316317.23200
SECONDARY_NW_QUAD_XY: 513970.19200 5323044.98700
SECONDARY_NE_QUAD_XY: 518626.92000 5323058.21200
SECONDARY_SE_QUAD_XY: 518649.45700 5316111.58000
SECONDARY_SW_QUAD_XY: 513987.09400 5316098.35200
RMSE_XY: 2.17000
IMAGE_SOURCE: BLACK AND WHITE FILM
SOURCE_IMAGE_ID: NAPP 9081-054
SOURCE_IMAGE_DATE: 1996 6 12
SOURCE_IMAGE_ID: NAPP 9081-118
SOURCE_IMAGE_DATE: 1996 6 12
SOURCE_DEM_DATE: 1998 0 0
AGENCY: WESTERN MAPPING CENTER (WMC)
PRODUCER: WOOLPERT LLP
PRODUCTION_SYSTEM: INTERGRAPH ISPM, ISIR
COMPRESSION: UNDEFINED
STANDARD_VERSION: 1996 12
METADATA_DATE: 2001 3 21
DATA_FILE_SIZE: 40361846
BYTE_COUNT: 5329
