FILENAME: O4810458.NWS.1133031.tif
QUADRANGLE_NAME: FROG COULEE
QUADRANT: NW
WEST_LONGITUDE: -104 52 30.00000
EAST_LONGITUDE: -104 48 45.00000
NORTH_LATITUDE: 48 7 30.00000
SOUTH_LATITUDE: 48 3 45.00000
PRODUCTION_DATE: 2001 3 13
RASTER_ORDER: LEFT_RIGHT/TOP_BOTTOM
BAND_ORGANIZATION: SINGLE FILE
BAND_CONTENT: BLACK&WHITE
BAND_CONTENT: UNDEFINED
BAND_CONTENT: UNDEFINED
BITS_PER_PIXEL: 8
SAMPLES_AND_LINES: 5318 7569
HORIZONTAL_DATUM: NAD83
HORIZONTAL_COORDINATE_SYSTEM: UTM
COORDINATE_ZONE: 13
HORIZONTAL_UNITS: meters
HORIZONTAL_RESOLUTION: 1.00000
SECONDARY_HORIZONTAL_DATUM: NAD27
XY_ORIGIN: 508957.00000 5330518.00000
SECONDARY_XY_ORIGIN: 508996.32300 5330296.98600
NATION: US
STATE: MT
NW_QUAD_CORNER_XY: 509301.89000 5330201.16200
NE_QUAD_CORNER_XY: 513952.83300 5330210.60700
SE_QUAD_CORNERY_XY: 513969.75200 5323263.88100
SW_QUAD_CORNER_XY: 509313.16900 5323254.43500
SECONDARY_NW_QUAD_XY: 509302.18300 5329982.25400
SECONDARY_NE_QUAD_XY: 513953.27300 5329991.69800
SECONDARY_SE_QUAD_XY: 513970.19200 5323044.98700
SECONDARY_SW_QUAD_XY: 509313.46300 5323035.54000
RMSE_XY: 2.26000
IMAGE_SOURCE: BLACK AND WHITE FILM
SOURCE_IMAGE_ID: NAPP 9081-117
SOURCE_IMAGE_DATE: 1996 6 12
SOURCE_IMAGE_ID: NAPP 9081-118
SOURCE_IMAGE_DATE: 1996 6 12
SOURCE_DEM_DATE: 1998 0 0
AGENCY: WESTERN MAPPING CENTER (WMC)
PRODUCER: WOOLPERT LLP
PRODUCTION_SYSTEM: INTERGRAPH ISPM, ISIR
COMPRESSION: UNDEFINED
STANDARD_VERSION: 1996 12
METADATA_DATE: 2001 3 21
DATA_FILE_SIZE: 40257260
BYTE_COUNT: 5318
