FILENAME: O4810458.NES.1133030.tif
QUADRANGLE_NAME: FROG COULEE
QUADRANT: NE
WEST_LONGITUDE: -104 48 45.00000
EAST_LONGITUDE: -104 45 0.00000
NORTH_LATITUDE: 48 7 30.00000
SOUTH_LATITUDE: 48 3 45.00000
PRODUCTION_DATE: 2001 3 13
RASTER_ORDER: LEFT_RIGHT/TOP_BOTTOM
BAND_ORGANIZATION: SINGLE FILE
BAND_CONTENT: BLACK&WHITE
BAND_CONTENT: UNDEFINED
BAND_CONTENT: UNDEFINED
BITS_PER_PIXEL: 8
SAMPLES_AND_LINES: 5324 7573
HORIZONTAL_DATUM: NAD83
HORIZONTAL_COORDINATE_SYSTEM: UTM
COORDINATE_ZONE: 13
HORIZONTAL_UNITS: meters
HORIZONTAL_RESOLUTION: 1.00000
SECONDARY_HORIZONTAL_DATUM: NAD27
XY_ORIGIN: 513608.00000 5330531.00000
SECONDARY_XY_ORIGIN: 513647.28700 5330310.01400
NATION: US
STATE: MT
NW_QUAD_CORNER_XY: 513952.83300 5330210.60700
NE_QUAD_CORNER_XY: 518603.77500 5330223.82800
SE_QUAD_CORNERY_XY: 518626.33300 5323277.10600
SW_QUAD_CORNER_XY: 513969.75200 5323263.88100
SECONDARY_NW_QUAD_XY: 513953.27300 5329991.69800
SECONDARY_NE_QUAD_XY: 518604.36200 5330004.92100
SECONDARY_SE_QUAD_XY: 518626.92000 5323058.21200
SECONDARY_SW_QUAD_XY: 513970.19200 5323044.98700
RMSE_XY: 2.32000
IMAGE_SOURCE: BLACK AND WHITE FILM
SOURCE_IMAGE_ID: NAPP 9081-056
SOURCE_IMAGE_DATE: 1996 6 12
SOURCE_IMAGE_ID: NAPP 9081-118
SOURCE_IMAGE_DATE: 1996 6 12
SOURCE_DEM_DATE: 1998 0 0
AGENCY: WESTERN MAPPING CENTER (WMC)
PRODUCER: WOOLPERT LLP
PRODUCTION_SYSTEM: INTERGRAPH ISPM, ISIR
COMPRESSION: UNDEFINED
STANDARD_VERSION: 1996 12
METADATA_DATE: 2001 3 21
DATA_FILE_SIZE: 40323976
BYTE_COUNT: 5324
