FILENAME: O4810459.SWS.1133045.tif
QUADRANGLE_NAME: TWOMILE CREEK
QUADRANT: SW
WEST_LONGITUDE: -104 45 0.00000
EAST_LONGITUDE: -104 41 15.00000
NORTH_LATITUDE: 48 3 45.00000
SOUTH_LATITUDE: 48 0 0.00000
PRODUCTION_DATE: 2001 3 7
RASTER_ORDER: LEFT_RIGHT/TOP_BOTTOM
BAND_ORGANIZATION: SINGLE FILE
BAND_CONTENT: BLACK&WHITE
BAND_CONTENT: UNDEFINED
BAND_CONTENT: UNDEFINED
BITS_PER_PIXEL: 8
SAMPLES_AND_LINES: 5335 7577
HORIZONTAL_DATUM: NAD83
HORIZONTAL_COORDINATE_SYSTEM: UTM
COORDINATE_ZONE: 13
HORIZONTAL_UNITS: meters
HORIZONTAL_RESOLUTION: 1.00000
SECONDARY_HORIZONTAL_DATUM: NAD27
XY_ORIGIN: 518282.00000 5323602.00000
SECONDARY_XY_ORIGIN: 518321.27900 5323381.11600
NATION: US
STATE: MT
NW_QUAD_CORNER_XY: 518626.33300 5323277.10600
NE_QUAD_CORNER_XY: 523282.91200 5323294.11000
SE_QUAD_CORNERY_XY: 523311.08300 5316347.46700
SW_QUAD_CORNER_XY: 518648.87000 5316330.46000
SECONDARY_NW_QUAD_XY: 518626.92000 5323058.21200
SECONDARY_NE_QUAD_XY: 523283.64600 5323075.21600
SECONDARY_SE_QUAD_XY: 523311.81600 5316128.58800
SECONDARY_SW_QUAD_XY: 518649.45700 5316111.58000
RMSE_XY: 2.16000
IMAGE_SOURCE: BLACK AND WHITE FILM
SOURCE_IMAGE_ID: NAPP 9080-163
SOURCE_IMAGE_DATE: 1996 6 12
SOURCE_DEM_DATE: 1998 0 0
AGENCY: WESTERN MAPPING CENTER (WMC)
PRODUCER: WOOLPERT LLP
PRODUCTION_SYSTEM: INTERGRAPH ISPM, ISIR
COMPRESSION: UNDEFINED
STANDARD_VERSION: 1996 12
METADATA_DATE: 2001 3 7
DATA_FILE_SIZE: 40428630
BYTE_COUNT: 5335
