FILENAME: O4810460.SWS.1133057.tif
QUADRANGLE_NAME: DUGOUT CREEK
QUADRANT: SW
WEST_LONGITUDE: -104 37 30.00000
EAST_LONGITUDE: -104 33 45.00000
NORTH_LATITUDE: 48 3 45.00000
SOUTH_LATITUDE: 48 0 0.00000
PRODUCTION_DATE: 2001 3 13
RASTER_ORDER: LEFT_RIGHT/TOP_BOTTOM
BAND_ORGANIZATION: SINGLE FILE
BAND_CONTENT: BLACK&WHITE
BAND_CONTENT: UNDEFINED
BAND_CONTENT: UNDEFINED
BITS_PER_PIXEL: 8
SAMPLES_AND_LINES: 5345 7584
HORIZONTAL_DATUM: NAD83
HORIZONTAL_COORDINATE_SYSTEM: UTM
COORDINATE_ZONE: 13
HORIZONTAL_UNITS: meters
HORIZONTAL_RESOLUTION: 1.00000
SECONDARY_HORIZONTAL_DATUM: NAD27
XY_ORIGIN: 527596.00000 5323647.00000
SECONDARY_XY_ORIGIN: 527635.22600 5323426.15800
NATION: US
STATE: MT
NW_QUAD_CORNER_XY: 527939.48900 5323314.89200
NE_QUAD_CORNER_XY: 532596.06100 5323339.45300
SE_QUAD_CORNERY_XY: 532635.50000 5316392.82100
SW_QUAD_CORNER_XY: 527973.29300 5316368.25400
SECONDARY_NW_QUAD_XY: 527940.36900 5323095.99900
SECONDARY_NE_QUAD_XY: 532597.08800 5323120.56100
SECONDARY_SE_QUAD_XY: 532636.52700 5316173.94300
SECONDARY_SW_QUAD_XY: 527974.17300 5316149.37600
RMSE_XY: 2.11000
IMAGE_SOURCE: BLACK AND WHITE FILM
SOURCE_IMAGE_ID: NAPP 9082-037
SOURCE_IMAGE_DATE: 1996 6 12
SOURCE_DEM_DATE: 1998 0 0
AGENCY: WESTERN MAPPING CENTER (WMC)
PRODUCER: WOOLPERT LLP
PRODUCTION_SYSTEM: INTERGRAPH ISPM, ISIR
COMPRESSION: UNDEFINED
STANDARD_VERSION: 1996 12
METADATA_DATE: 2001 3 13
DATA_FILE_SIZE: 40541825
BYTE_COUNT: 5345
