FILENAME: O4810461.SWS.1134884.tif
QUADRANGLE_NAME: THREE BUTTES
QUADRANT: SW
WEST_LONGITUDE: -104 30 0.00000
EAST_LONGITUDE: -104 26 15.00000
NORTH_LATITUDE: 48 3 45.00000
SOUTH_LATITUDE: 48 0 0.00000
PRODUCTION_DATE: 2001 3 15
RASTER_ORDER: LEFT_RIGHT/TOP_BOTTOM
BAND_ORGANIZATION: SINGLE FILE
BAND_CONTENT: BLACK&WHITE
BAND_CONTENT: UNDEFINED
BAND_CONTENT: UNDEFINED
BITS_PER_PIXEL: 8
SAMPLES_AND_LINES: 5356 7591
HORIZONTAL_DATUM: NAD83
HORIZONTAL_COORDINATE_SYSTEM: UTM
COORDINATE_ZONE: 13
HORIZONTAL_UNITS: meters
HORIZONTAL_RESOLUTION: 1.00000
SECONDARY_HORIZONTAL_DATUM: NAD27
XY_ORIGIN: 536909.00000 5323707.00000
SECONDARY_XY_ORIGIN: 536948.17300 5323486.19900
NATION: US
STATE: MT
NW_QUAD_CORNER_XY: 537252.63000 5323367.79200
NE_QUAD_CORNER_XY: 541909.19300 5323399.91100
SE_QUAD_CORNERY_XY: 541959.90100 5316453.29200
SW_QUAD_CORNER_XY: 537297.70300 5316421.16700
SECONDARY_NW_QUAD_XY: 537253.80300 5323148.90100
SECONDARY_NE_QUAD_XY: 541910.51400 5323181.02100
SECONDARY_SE_QUAD_XY: 541961.22200 5316234.41700
SECONDARY_SW_QUAD_XY: 537298.87700 5316202.29000
RMSE_XY: 2.62000
IMAGE_SOURCE: BLACK AND WHITE FILM
SOURCE_IMAGE_ID: NAPP 9083-041
SOURCE_IMAGE_DATE: 1996 6 12
SOURCE_IMAGE_ID: NAPP 9103-050
SOURCE_IMAGE_DATE: 1996 7 15
SOURCE_IMAGE_ID: NAPP 9103-051
SOURCE_IMAGE_DATE: 1996 7 15
SOURCE_DEM_DATE: 1996 0 0
AGENCY: WESTERN MAPPING CENTER (WMC)
PRODUCER: WOOLPERT LLP
PRODUCTION_SYSTEM: INTERGRAPH ISPM, ISIR
COMPRESSION: UNDEFINED
STANDARD_VERSION: 1996 12
METADATA_DATE: 2001 3 29
DATA_FILE_SIZE: 40662752
BYTE_COUNT: 5356
