FILENAME: O4810461.SES.1134883.tif
QUADRANGLE_NAME: THREE BUTTES
QUADRANT: SE
WEST_LONGITUDE: -104 26 15.00000
EAST_LONGITUDE: -104 22 30.00000
NORTH_LATITUDE: 48 3 45.00000
SOUTH_LATITUDE: 48 0 0.00000
PRODUCTION_DATE: 2001 3 15
RASTER_ORDER: LEFT_RIGHT/TOP_BOTTOM
BAND_ORGANIZATION: SINGLE FILE
BAND_CONTENT: BLACK&WHITE
BAND_CONTENT: UNDEFINED
BAND_CONTENT: UNDEFINED
BITS_PER_PIXEL: 8
SAMPLES_AND_LINES: 5362 7595
HORIZONTAL_DATUM: NAD83
HORIZONTAL_COORDINATE_SYSTEM: UTM
COORDINATE_ZONE: 13
HORIZONTAL_UNITS: meters
HORIZONTAL_RESOLUTION: 1.00000
SECONDARY_HORIZONTAL_DATUM: NAD27
XY_ORIGIN: 541566.00000 5323743.00000
SECONDARY_XY_ORIGIN: 541605.12200 5323522.21800
NATION: US
STATE: MT
NW_QUAD_CORNER_XY: 541909.19300 5323399.91100
NE_QUAD_CORNER_XY: 546565.75200 5323435.80800
SE_QUAD_CORNERY_XY: 546622.09400 5316489.19800
SW_QUAD_CORNER_XY: 541959.90100 5316453.29200
SECONDARY_NW_QUAD_XY: 541910.51400 5323181.02100
SECONDARY_NE_QUAD_XY: 546567.21900 5323216.91900
SECONDARY_SE_QUAD_XY: 546623.56100 5316270.32300
SECONDARY_SW_QUAD_XY: 541961.22200 5316234.41700
RMSE_XY: 2.45000
IMAGE_SOURCE: BLACK AND WHITE FILM
SOURCE_IMAGE_ID: NAPP 9103-050
SOURCE_IMAGE_DATE: 1996 7 15
SOURCE_IMAGE_ID: NAPP 9103-051
SOURCE_IMAGE_DATE: 1996 7 15
SOURCE_DEM_DATE: 1996 0 0
AGENCY: WESTERN MAPPING CENTER (WMC)
PRODUCER: WOOLPERT LLP
PRODUCTION_SYSTEM: INTERGRAPH ISPM, ISIR
COMPRESSION: UNDEFINED
STANDARD_VERSION: 1996 12
METADATA_DATE: 2001 3 29
DATA_FILE_SIZE: 40729752
BYTE_COUNT: 5362
