FILENAME: O4810462.SES.1134895.tif
QUADRANGLE_NAME: CEDAR COULEE
QUADRANT: SE
WEST_LONGITUDE: -104 18 45.00000
EAST_LONGITUDE: -104 15 0.00000
NORTH_LATITUDE: 48 3 45.00000
SOUTH_LATITUDE: 48 0 0.00000
PRODUCTION_DATE: 2001 3 15
RASTER_ORDER: LEFT_RIGHT/TOP_BOTTOM
BAND_ORGANIZATION: SINGLE FILE
BAND_CONTENT: BLACK&WHITE
BAND_CONTENT: UNDEFINED
BAND_CONTENT: UNDEFINED
BITS_PER_PIXEL: 8
SAMPLES_AND_LINES: 5373 7603
HORIZONTAL_DATUM: NAD83
HORIZONTAL_COORDINATE_SYSTEM: UTM
COORDINATE_ZONE: 13
HORIZONTAL_UNITS: meters
HORIZONTAL_RESOLUTION: 1.00000
SECONDARY_HORIZONTAL_DATUM: NAD27
XY_ORIGIN: 550879.00000 5323826.00000
SECONDARY_XY_ORIGIN: 550918.01700 5323605.25700
NATION: US
STATE: MT
NW_QUAD_CORNER_XY: 551222.30500 5323475.48400
NE_QUAD_CORNER_XY: 555878.85100 5323518.93900
SE_QUAD_CORNERY_XY: 555946.46300 5316572.34800
SW_QUAD_CORNER_XY: 551284.28200 5316528.88300
SECONDARY_NW_QUAD_XY: 551223.91900 5323256.59600
SECONDARY_NE_QUAD_XY: 555880.61200 5323300.05300
SECONDARY_SE_QUAD_XY: 555948.22300 5316353.47600
SECONDARY_SW_QUAD_XY: 551285.89500 5316310.01000
RMSE_XY: 2.64000
IMAGE_SOURCE: BLACK AND WHITE FILM
SOURCE_IMAGE_ID: NAPP 9124-072
SOURCE_IMAGE_DATE: 1997 8 22
SOURCE_IMAGE_ID: NAPP 9124-073
SOURCE_IMAGE_DATE: 1997 8 22
SOURCE_IMAGE_ID: NAPP 9095-090
SOURCE_IMAGE_DATE: 1996 7 9
SOURCE_IMAGE_ID: NAPP 9095-091
SOURCE_IMAGE_DATE: 1996 7 9
SOURCE_DEM_DATE: 1998 0 0
AGENCY: WESTERN MAPPING CENTER (WMC)
PRODUCER: WOOLPERT LLP
PRODUCTION_SYSTEM: INTERGRAPH ISPM, ISIR
COMPRESSION: UNDEFINED
STANDARD_VERSION: 1996 12
METADATA_DATE: 2001 3 28
DATA_FILE_SIZE: 40856292
BYTE_COUNT: 5373
