FILENAME: O4810464.NWS.1134913.tif
QUADRANGLE_NAME: BAINVILLE SE
QUADRANT: NW
WEST_LONGITUDE: -104 7 30.00000
EAST_LONGITUDE: -104 3 45.00000
NORTH_LATITUDE: 48 7 30.00000
SOUTH_LATITUDE: 48 3 45.00000
PRODUCTION_DATE: 2001 3 9
RASTER_ORDER: LEFT_RIGHT/TOP_BOTTOM
BAND_ORGANIZATION: SINGLE FILE
BAND_CONTENT: BLACK&WHITE
BAND_CONTENT: UNDEFINED
BAND_CONTENT: UNDEFINED
BITS_PER_PIXEL: 8
SAMPLES_AND_LINES: 5383 7614
HORIZONTAL_DATUM: NAD83
HORIZONTAL_COORDINATE_SYSTEM: UTM
COORDINATE_ZONE: 13
HORIZONTAL_UNITS: meters
HORIZONTAL_RESOLUTION: 1.00000
SECONDARY_HORIZONTAL_DATUM: NAD27
XY_ORIGIN: 564771.00000 5330926.00000
SECONDARY_XY_ORIGIN: 564809.80500 5330705.16300
NATION: US
STATE: MT
NW_QUAD_CORNER_XY: 565112.96200 5330563.83000
NE_QUAD_CORNER_XY: 569763.84500 5330618.61000
SE_QUAD_CORNERY_XY: 569848.44500 5323671.98000
SW_QUAD_CORNER_XY: 565191.92200 5323617.18700
SECONDARY_NW_QUAD_XY: 565115.01600 5330344.93300
SECONDARY_NE_QUAD_XY: 569766.04600 5330399.71500
SECONDARY_SE_QUAD_XY: 569850.64600 5323453.09800
SECONDARY_SW_QUAD_XY: 565193.97600 5323398.30400
RMSE_XY: 2.54000
IMAGE_SOURCE: BLACK AND WHITE FILM
SOURCE_IMAGE_ID: NAPP 8631-032
SOURCE_IMAGE_DATE: 1995 7 28
SOURCE_IMAGE_ID: NAPP 8631-033
SOURCE_IMAGE_DATE: 1995 7 28
SOURCE_IMAGE_ID: NAPP 9123-137
SOURCE_IMAGE_DATE: 1997 8 3
SOURCE_DEM_DATE: 1995 6 1
AGENCY: WESTERN MAPPING CENTER (WMC)
PRODUCER: WOOLPERT LLP
PRODUCTION_SYSTEM: INTERGRAPH ISPM, ISIR
COMPRESSION: UNDEFINED
STANDARD_VERSION: 1996 12
METADATA_DATE: 2001 3 27
DATA_FILE_SIZE: 40991545
BYTE_COUNT: 5383
