FILENAME: O4711501.SES.56709.tif
QUADRANGLE_NAME: GEM PEAK
QUADRANT: SE
WEST_LONGITUDE: -115 56 15.00000
EAST_LONGITUDE: -115 52 30.00000
NORTH_LATITUDE: 47 56 15.00000
SOUTH_LATITUDE: 47 52 30.00000
PRODUCTION_DATE: 1997 2 20
RASTER_ORDER: LEFT_RIGHT/TOP_BOTTOM
BAND_ORGANIZATION: SINGLE FILE
BAND_CONTENT: BLACK&WHITE
BAND_CONTENT: UNDEFINED
BAND_CONTENT: UNDEFINED
BITS_PER_PIXEL: 8
SAMPLES_AND_LINES: 5445 7626
HORIZONTAL_DATUM: NAD83
HORIZONTAL_COORDINATE_SYSTEM: UTM
COORDINATE_ZONE: 11
HORIZONTAL_UNITS: METERS
HORIZONTAL_RESOLUTION: 1.00000
SECONDARY_HORIZONTAL_DATUM: NAD27
XY_ORIGIN: 578977.00000 5310271.00000
SECONDARY_XY_ORIGIN: 579054.59000 5310061.42000
NATION: US
STATE: MT
STATE: ID
NW_QUAD_CORNER_XY: 579353.01000 5309899.88000
NE_QUAD_CORNER_XY: 584020.78000 5309966.04000
SE_QUAD_CORNERY_XY: 584122.00000 5303019.67000
SW_QUAD_CORNER_XY: 579448.61000 5302953.50000
SECONDARY_NW_QUAD_XY: 579355.51000 5309681.03000
SECONDARY_NE_QUAD_XY: 584023.42000 5309747.19000
SECONDARY_SE_QUAD_XY: 584124.64000 5302800.84000
SECONDARY_SW_QUAD_XY: 579451.11000 5302734.66000
RMSE_XY: 2.10000
IMAGE_SOURCE: BLACK AND WHITE FILM
SOURCE_IMAGE_ID: NAPP 8422 29
SOURCE_IMAGE_DATE: 1995 7 28
SOURCE_IMAGE_ID: NAPP 8422 8419
SOURCE_IMAGE_DATE: 1995 7 28
SOURCE_IMAGE_ID: NAPP 8422 102
SOURCE_IMAGE_DATE: 1995 7 28
SOURCE_DEM_DATE: 1997 2 20
AGENCY: WESTERN MAPPING CENTER (WMC)
PRODUCER: USFS
PRODUCTION_SYSTEM: DV2.6.3 10/9OV2.4 5/95
COMPRESSION: UNDEFINED
STANDARD_VERSION: 1996 12
METADATA_DATE: 1997 11 2
DATA_FILE_SIZE: 41529015
BYTE_COUNT: 5445
