FILENAME: O4711503.SES.56621.tif
QUADRANGLE_NAME: NOXON RAPIDS DAM
QUADRANT: SE
WEST_LONGITUDE: -115 41 15.00000
EAST_LONGITUDE: -115 37 30.00000
NORTH_LATITUDE: 47 56 15.00000
SOUTH_LATITUDE: 47 52 30.00000
PRODUCTION_DATE: 1997 3 5
RASTER_ORDER: LEFT_RIGHT/TOP_BOTTOM
BAND_ORGANIZATION: SINGLE FILE
BAND_CONTENT: BLACK&WHITE
BAND_CONTENT: UNDEFINED
BAND_CONTENT: UNDEFINED
BITS_PER_PIXEL: 8
SAMPLES_AND_LINES: 5468 7640
HORIZONTAL_DATUM: NAD83
HORIZONTAL_COORDINATE_SYSTEM: UTM
COORDINATE_ZONE: 11
HORIZONTAL_UNITS: METERS
HORIZONTAL_RESOLUTION: 1.00000
SECONDARY_HORIZONTAL_DATUM: NAD27
XY_ORIGIN: 597648.00000 5310570.00000
SECONDARY_XY_ORIGIN: 597726.09400 5310359.87500
NATION: US
STATE: MT
NW_QUAD_CORNER_XY: 598023.93000 5310187.25000
NE_QUAD_CORNER_XY: 602691.65000 5310268.54000
SE_QUAD_CORNERY_XY: 602815.37000 5303322.24000
SW_QUAD_CORNER_XY: 598142.03000 5303240.94000
SECONDARY_NW_QUAD_XY: 598027.01000 5309968.42000
SECONDARY_NE_QUAD_XY: 602694.87000 5310049.70000
SECONDARY_SE_QUAD_XY: 602818.60000 5303103.42000
SECONDARY_SW_QUAD_XY: 598145.11000 5303022.11000
RMSE_XY: 3.40000
IMAGE_SOURCE: BLACK AND WHITE FILM
SOURCE_IMAGE_ID: NAPP 8421 128
SOURCE_IMAGE_DATE: 1995 8 20
SOURCE_DEM_DATE: 1997 3 5
AGENCY: WESTERN MAPPING CENTER (WMC)
PRODUCER: USFS
PRODUCTION_SYSTEM: DV2.6.3 10/9OV2.4 5/95
COMPRESSION: UNDEFINED
STANDARD_VERSION: 1996 12
METADATA_DATE: 1997 11 2
DATA_FILE_SIZE: 41780988
BYTE_COUNT: 5468
