FILENAME: O4711503.NWS.56646.tif
QUADRANGLE_NAME: NOXON RAPIDS DAM
QUADRANT: NW
WEST_LONGITUDE: -115 45 0.00000
EAST_LONGITUDE: -115 41 15.00000
NORTH_LATITUDE: 48 0 0.00000
SOUTH_LATITUDE: 47 56 15.00000
PRODUCTION_DATE: 1997 3 5
RASTER_ORDER: LEFT_RIGHT/TOP_BOTTOM
BAND_ORGANIZATION: SINGLE FILE
BAND_CONTENT: BLACK&WHITE
BAND_CONTENT: UNDEFINED
BAND_CONTENT: UNDEFINED
BITS_PER_PIXEL: 8
SAMPLES_AND_LINES: 5456 7636
HORIZONTAL_DATUM: NAD83
HORIZONTAL_COORDINATE_SYSTEM: UTM
COORDINATE_ZONE: 11
HORIZONTAL_UNITS: METERS
HORIZONTAL_RESOLUTION: 1.00000
SECONDARY_HORIZONTAL_DATUM: NAD27
XY_ORIGIN: 592868.00000 5317435.00000
SECONDARY_XY_ORIGIN: 592945.00000 5317225.00000
NATION: US
STATE: MT
NW_QUAD_CORNER_XY: 593243.61600 5317056.15700
NE_QUAD_CORNER_XY: 597905.71400 5317133.64600
SE_QUAD_CORNERY_XY: 598023.92900 5310187.25400
SW_QUAD_CORNER_XY: 593356.20000 5310109.74800
SECONDARY_NW_QUAD_XY: 593246.55000 5316837.30000
SECONDARY_NE_QUAD_XY: 597908.79500 5316914.79100
SECONDARY_SE_QUAD_XY: 598027.01000 5309968.41500
SECONDARY_SW_QUAD_XY: 593359.13400 5309890.90700
RMSE_XY: 2.60000
IMAGE_SOURCE: BLACK AND WHITE FILM
SOURCE_IMAGE_ID: NAPP 8419 20
SOURCE_IMAGE_DATE: 1995 8 21
SOURCE_DEM_DATE: 1997 3 5
AGENCY: WESTERN MAPPING CENTER (WMC)
PRODUCER: USFS
PRODUCTION_SYSTEM: DV2.6.3 10/9OV2.4 5/95
COMPRESSION: UNDEFINED
STANDARD_VERSION: 1996 12
METADATA_DATE: 1997 11 2
DATA_FILE_SIZE: 41667472
BYTE_COUNT: 5456
