FILENAME: O4711503.NES.56622.tif
QUADRANGLE_NAME: NOXON RAPIDS DAM
QUADRANT: NE
WEST_LONGITUDE: -115 41 15.00000
EAST_LONGITUDE: -115 37 30.00000
NORTH_LATITUDE: 48 0 0.00000
SOUTH_LATITUDE: 47 56 15.00000
PRODUCTION_DATE: 1997 3 5
RASTER_ORDER: LEFT_RIGHT/TOP_BOTTOM
BAND_ORGANIZATION: SINGLE FILE
BAND_CONTENT: BLACK&WHITE
BAND_CONTENT: UNDEFINED
BAND_CONTENT: UNDEFINED
BITS_PER_PIXEL: 8
SAMPLES_AND_LINES: 5464 7639
HORIZONTAL_DATUM: NAD83
HORIZONTAL_COORDINATE_SYSTEM: UTM
COORDINATE_ZONE: 11
HORIZONTAL_UNITS: METERS
HORIZONTAL_RESOLUTION: 1.00000
SECONDARY_HORIZONTAL_DATUM: NAD27
XY_ORIGIN: 597530.00000 5317516.00000
SECONDARY_XY_ORIGIN: 597608.10700 5317305.71300
NATION: US
STATE: MT
NW_QUAD_CORNER_XY: 597905.71000 5317133.64000
NE_QUAD_CORNER_XY: 602567.80000 5317214.92000
SE_QUAD_CORNERY_XY: 602691.65000 5310268.54000
SW_QUAD_CORNER_XY: 598023.93000 5310187.25000
SECONDARY_NW_QUAD_XY: 597908.80000 5316914.79000
SECONDARY_NE_QUAD_XY: 602571.03000 5316996.06000
SECONDARY_SE_QUAD_XY: 602694.87000 5310049.70000
SECONDARY_SW_QUAD_XY: 598027.01000 5309968.42000
RMSE_XY: 4.70000
IMAGE_SOURCE: BLACK AND WHITE FILM
SOURCE_IMAGE_ID: NAPP 8421 126
SOURCE_IMAGE_DATE: 1995 8 20
SOURCE_DEM_DATE: 1997 3 5
AGENCY: WESTERN MAPPING CENTER (WMC)
PRODUCER: USFS
PRODUCTION_SYSTEM: DV2.6.3 10/9OV2.4 5/95
COMPRESSION: UNDEFINED
STANDARD_VERSION: 1996 12
METADATA_DATE: 1997 11 2
DATA_FILE_SIZE: 41744960
BYTE_COUNT: 5464
