FILENAME: O4711506.NWS.56510.tif
QUADRANGLE_NAME: MILLER LAKE
QUADRANT: NW
WEST_LONGITUDE: -115 22 30.00000
EAST_LONGITUDE: -115 18 45.00000
NORTH_LATITUDE: 48 0 0.00000
SOUTH_LATITUDE: 47 56 15.00000
PRODUCTION_DATE: 1997 3 15
RASTER_ORDER: LEFT_RIGHT/TOP_BOTTOM
BAND_ORGANIZATION: SINGLE FILE
BAND_CONTENT: BLACK&WHITE
BAND_CONTENT: UNDEFINED
BAND_CONTENT: UNDEFINED
BITS_PER_PIXEL: 8
SAMPLES_AND_LINES: 5492 7658
HORIZONTAL_DATUM: NAD83
HORIZONTAL_COORDINATE_SYSTEM: UTM
COORDINATE_ZONE: 11
HORIZONTAL_UNITS: METERS
HORIZONTAL_RESOLUTION: 1.00000
SECONDARY_HORIZONTAL_DATUM: NAD27
XY_ORIGIN: 620840.00000 5317979.00000
SECONDARY_XY_ORIGIN: 620918.00000 5317769.00000
NATION: US
STATE: MT
NW_QUAD_CORNER_XY: 621216.01400 5317577.80900
NE_QUAD_CORNER_XY: 625878.03200 5317677.98700
SE_QUAD_CORNERY_XY: 626030.03700 5310731.71800
SW_QUAD_CORNER_XY: 621362.38700 5310631.51800
SECONDARY_NW_QUAD_XY: 621219.82900 5317358.96900
SECONDARY_NE_QUAD_XY: 625881.99300 5317459.15000
SECONDARY_SE_QUAD_XY: 626033.99800 5310512.89600
SECONDARY_SW_QUAD_XY: 621366.20200 5310412.69200
RMSE_XY: 3.20000
IMAGE_SOURCE: BLACK AND WHITE FILM
SOURCE_IMAGE_ID: NAPP 8418 34
SOURCE_IMAGE_DATE: 1995 8 5
SOURCE_DEM_DATE: 1997 3 15
AGENCY: WESTERN MAPPING CENTER (WMC)
PRODUCER: USFS
PRODUCTION_SYSTEM: DV2.6.3 10/9OV2.4 5/95
COMPRESSION: UNDEFINED
STANDARD_VERSION: 1996 12
METADATA_DATE: 1997 11 3
DATA_FILE_SIZE: 42063228
BYTE_COUNT: 5492
