FILENAME: O4711507.SWS.56470.tif
QUADRANGLE_NAME: MANTRAP FORK
QUADRANT: SW
WEST_LONGITUDE: -115 15 0.00000
EAST_LONGITUDE: -115 11 15.00000
NORTH_LATITUDE: 47 56 15.00000
SOUTH_LATITUDE: 47 52 30.00000
PRODUCTION_DATE: 1997 3 15
RASTER_ORDER: LEFT_RIGHT/TOP_BOTTOM
BAND_ORGANIZATION: SINGLE FILE
BAND_CONTENT: BLACK&WHITE
BAND_CONTENT: UNDEFINED
BAND_CONTENT: UNDEFINED
BITS_PER_PIXEL: 8
SAMPLES_AND_LINES: 5508 7665
HORIZONTAL_DATUM: NAD83
HORIZONTAL_COORDINATE_SYSTEM: UTM
COORDINATE_ZONE: 11
HORIZONTAL_UNITS: METERS
HORIZONTAL_RESOLUTION: 1.00000
SECONDARY_HORIZONTAL_DATUM: NAD27
XY_ORIGIN: 630322.00000 5311244.00000
SECONDARY_XY_ORIGIN: 630400.30300 5311033.31400
NATION: US
STATE: MT
NW_QUAD_CORNER_XY: 630697.67200 5310835.70100
NE_QUAD_CORNER_XY: 635365.29100 5310943.46800
SE_QUAD_CORNERY_XY: 635528.40000 5303997.31500
SW_QUAD_CORNER_XY: 630855.15300 5303889.52500
SECONDARY_NW_QUAD_XY: 630701.78000 5310616.88300
SECONDARY_NE_QUAD_XY: 635369.54500 5310724.65300
SECONDARY_SE_QUAD_XY: 635532.65400 5303778.51600
SECONDARY_SW_QUAD_XY: 630859.26100 5303670.72200
RMSE_XY: 2.30000
IMAGE_SOURCE: BLACK AND WHITE FILM
SOURCE_IMAGE_ID: NAPP 8420 233
SOURCE_IMAGE_DATE: 1995 8 20
SOURCE_DEM_DATE: 1997 3 15
AGENCY: WESTERN MAPPING CENTER (WMC)
PRODUCER: USFS
PRODUCTION_SYSTEM: DV2.6.3 10/9OV2.4 5/95
COMPRESSION: UNDEFINED
STANDARD_VERSION: 1996 12
METADATA_DATE: 1997 11 2
DATA_FILE_SIZE: 42224328
BYTE_COUNT: 5508
